BEGIN:VCALENDAR
VERSION:2.0
PRODID:-//HasGeek//NONSGML Funnel//EN
DESCRIPTION:Content Web Saturday Sessions
X-WR-CALDESC:Content Web Saturday Sessions
NAME:On HTTP3
X-WR-CALNAME:On HTTP3
REFRESH-INTERVAL;VALUE=DURATION:PT12H
SUMMARY:On HTTP3
TIMEZONE-ID:Asia/Kolkata
X-PUBLISHED-TTL:PT12H
X-WR-TIMEZONE:Asia/Kolkata
BEGIN:VEVENT
SUMMARY:On HTTP/3
DTSTART:20201121T053000Z
DTEND:20201121T064500Z
DTSTAMP:20260421T123157Z
UID:session/7HBfzfhi7NfmcRaqrJfJgz@hasgeek.com
SEQUENCE:0
CREATED:20201109T102337Z
DESCRIPTION:\n
LAST-MODIFIED:20201109T102409Z
LOCATION:Online
ORGANIZER;CN="Content Web":MAILTO:no-reply@hasgeek.com
BEGIN:VALARM
ACTION:display
DESCRIPTION:On HTTP/3 in 5 minutes
TRIGGER:-PT5M
END:VALARM
END:VEVENT
END:VCALENDAR
