BEGIN:VCALENDAR
VERSION:2.0
PRODID:-//HasGeek//NONSGML Funnel//EN
DESCRIPTION:Content Web Saturday Sessions
X-WR-CALDESC:Content Web Saturday Sessions
NAME:Is Shopify the right platform for you?
X-WR-CALNAME:Is Shopify the right platform for you?
REFRESH-INTERVAL;VALUE=DURATION:PT12H
SUMMARY:Is Shopify the right platform for you?
TIMEZONE-ID:Asia/Kolkata
X-PUBLISHED-TTL:PT12H
X-WR-TIMEZONE:Asia/Kolkata
BEGIN:VEVENT
SUMMARY:Is Shopify the right platform for you?
DTSTART:20201024T053000Z
DTEND:20201024T061500Z
DTSTAMP:20260421T123348Z
UID:session/SpaDBxVU2EuxP4MK2gP42T@hasgeek.com
SEQUENCE:0
CREATED:20201019T061426Z
DESCRIPTION:\n
LAST-MODIFIED:20201110T101106Z
LOCATION:Online
ORGANIZER;CN="Content Web":MAILTO:no-reply@hasgeek.com
BEGIN:VALARM
ACTION:display
DESCRIPTION:Is Shopify the right platform for you? in 5 minutes
TRIGGER:-PT5M
END:VALARM
END:VEVENT
BEGIN:VEVENT
SUMMARY:Q&A session
DTSTART:20201024T061500Z
DTEND:20201024T064500Z
DTSTAMP:20260421T123348Z
UID:session/EcYKR7se4Y7NcwtnBbAhXj@hasgeek.com
SEQUENCE:0
CREATED:20201110T101113Z
DESCRIPTION:\n
LAST-MODIFIED:20201110T101528Z
LOCATION:Online
ORGANIZER;CN="Content Web":MAILTO:no-reply@hasgeek.com
BEGIN:VALARM
ACTION:display
DESCRIPTION:Q&A session in 5 minutes
TRIGGER:-PT5M
END:VALARM
END:VEVENT
END:VCALENDAR
