BEGIN:VCALENDAR
VERSION:2.0
PRODID:-//HasGeek//NONSGML Funnel//EN
DESCRIPTION:Content Web Saturday sessions
X-WR-CALDESC:Content Web Saturday sessions
NAME:AMP and Core Web Vitals
X-WR-CALNAME:AMP and Core Web Vitals
REFRESH-INTERVAL;VALUE=DURATION:PT12H
SUMMARY:AMP and Core Web Vitals
TIMEZONE-ID:Asia/Kolkata
X-PUBLISHED-TTL:PT12H
X-WR-TIMEZONE:Asia/Kolkata
BEGIN:VEVENT
SUMMARY:Introduction to Content Web and today's session
DTSTART:20200808T053000Z
DTEND:20200808T053500Z
DTSTAMP:20260421T141415Z
UID:session/XBtjjvCtwe4YYXiVSZWNHw@hasgeek.com
SEQUENCE:0
CREATED:20200722T115447Z
DESCRIPTION:\n
LAST-MODIFIED:20200722T115447Z
LOCATION:Online
ORGANIZER;CN="Content Web":MAILTO:no-reply@hasgeek.com
BEGIN:VALARM
ACTION:display
DESCRIPTION:Introduction to Content Web and today's session in 5 minutes
TRIGGER:-PT5M
END:VALARM
END:VEVENT
BEGIN:VEVENT
SUMMARY:An introduction to AMP and Core Web Vitals
DTSTART:20200808T053500Z
DTEND:20200808T060500Z
DTSTAMP:20260421T141415Z
UID:session/H2AgL26HQ8Jr9mWrYR3XwU@hasgeek.com
SEQUENCE:2
CATEGORIES:40 mins talk,Developers
CREATED:20200722T115836Z
DESCRIPTION:This talk will cover how AMP makes web developers more product
 ive. \nWe will also talk about how AMP's design principles allow it to per
 form well against Core Web Vitals.\n\n### Speaker bio\n\nNaina Raisinghani
  is a Product Manager on the AMP Project. She focuses on helping developer
 s be more productive with AMP. She previously spent 2 years as a Software 
 Engineer on the Chrome team working on making the rendering engine pixel p
 erfect.\n
LAST-MODIFIED:20230810T072606Z
LOCATION:Online
ORGANIZER;CN="Content Web":MAILTO:no-reply@hasgeek.com
URL:https://hasgeek.com/contentweb/amp-and-core-web-vitals/schedule/amp-at
 -your-service-H2AgL26HQ8Jr9mWrYR3XwU
BEGIN:VALARM
ACTION:display
DESCRIPTION:An introduction to AMP and Core Web Vitals in 5 minutes
TRIGGER:-PT5M
END:VALARM
END:VEVENT
BEGIN:VEVENT
SUMMARY:AMA on AMP
DTSTART:20200808T060500Z
DTEND:20200808T064000Z
DTSTAMP:20260421T141415Z
UID:session/7CTWM24fVH6dRmFeEnbyDM@hasgeek.com
SEQUENCE:0
CREATED:20200722T115851Z
DESCRIPTION:\n
LAST-MODIFIED:20200815T100320Z
LOCATION:Online
ORGANIZER;CN="Content Web":MAILTO:no-reply@hasgeek.com
BEGIN:VALARM
ACTION:display
DESCRIPTION:AMA on AMP in 5 minutes
TRIGGER:-PT5M
END:VALARM
END:VEVENT
BEGIN:VEVENT
SUMMARY:Summary and closing\; announcement of next week's session
DTSTART:20200808T064000Z
DTEND:20200808T064500Z
DTSTAMP:20260421T141415Z
UID:session/4MHd4fmRtSGeDxBKj4zCLy@hasgeek.com
SEQUENCE:0
CREATED:20200722T115909Z
DESCRIPTION:\n
LAST-MODIFIED:20200722T115909Z
LOCATION:Online
ORGANIZER;CN="Content Web":MAILTO:no-reply@hasgeek.com
BEGIN:VALARM
ACTION:display
DESCRIPTION:Summary and closing\; announcement of next week's session in 5
  minutes
TRIGGER:-PT5M
END:VALARM
END:VEVENT
END:VCALENDAR
