BEGIN:VCALENDAR
VERSION:2.0
PRODID:-//HasGeek//NONSGML Funnel//EN
DESCRIPTION:Content Web Saturday sessions
X-WR-CALDESC:Content Web Saturday sessions
NAME:Experiences with AMP\; alternatives to consider
X-WR-CALNAME:Experiences with AMP\; alternatives to consider
REFRESH-INTERVAL;VALUE=DURATION:PT12H
SUMMARY:Experiences with AMP\; alternatives to consider
TIMEZONE-ID:Asia/Kolkata
X-PUBLISHED-TTL:PT12H
X-WR-TIMEZONE:Asia/Kolkata
BEGIN:VEVENT
SUMMARY:Introduction to Content Web and today's session
DTSTART:20200829T053000Z
DTEND:20200829T053500Z
DTSTAMP:20260421T123255Z
UID:session/KQuGyVPwXywMaEqyNwonAQ@hasgeek.com
SEQUENCE:0
CREATED:20200825T021635Z
DESCRIPTION:\n
LAST-MODIFIED:20200825T021635Z
LOCATION:Online
ORGANIZER;CN="Content Web":MAILTO:no-reply@hasgeek.com
BEGIN:VALARM
ACTION:display
DESCRIPTION:Introduction to Content Web and today's session in 5 minutes
TRIGGER:-PT5M
END:VALARM
END:VEVENT
BEGIN:VEVENT
SUMMARY:Debate on AMP - opinions and experiences
DTSTART:20200829T053500Z
DTEND:20200829T064000Z
DTSTAMP:20260421T123255Z
UID:session/8bU7mXVkfFcavCbMvVpuqL@hasgeek.com
SEQUENCE:1
CREATED:20200825T021721Z
DESCRIPTION:Details of the session are on: https://hasgeek.com/contentweb/
 proposals/proposals/amp-advanced-level-sessions-cCvQZRCWAgQuPJkjqWDWP\n
LAST-MODIFIED:20230108T103046Z
LOCATION:Online
ORGANIZER;CN="Content Web":MAILTO:no-reply@hasgeek.com
BEGIN:VALARM
ACTION:display
DESCRIPTION:Debate on AMP - opinions and experiences in 5 minutes
TRIGGER:-PT5M
END:VALARM
END:VEVENT
BEGIN:VEVENT
SUMMARY:Conclusion and announcement of next week's session
DTSTART:20200829T064000Z
DTEND:20200829T064500Z
DTSTAMP:20260421T123255Z
UID:session/DanEWi6EQZvUeAzdwa5o6B@hasgeek.com
SEQUENCE:0
CREATED:20200825T021739Z
DESCRIPTION:\n
LAST-MODIFIED:20200825T021739Z
LOCATION:Online
ORGANIZER;CN="Content Web":MAILTO:no-reply@hasgeek.com
BEGIN:VALARM
ACTION:display
DESCRIPTION:Conclusion and announcement of next week's session in 5 minute
 s
TRIGGER:-PT5M
END:VALARM
END:VEVENT
END:VCALENDAR
