BEGIN:VCALENDAR
VERSION:2.0
PRODID:-//HasGeek//NONSGML Funnel//EN
DESCRIPTION:15 minute talks
X-WR-CALDESC:15 minute talks
NAME:Construkt Open Mic (Finale)
X-WR-CALNAME:Construkt Open Mic (Finale)
REFRESH-INTERVAL;VALUE=DURATION:PT12H
SUMMARY:Construkt Open Mic (Finale)
TIMEZONE-ID:Asia/Kolkata
X-PUBLISHED-TTL:PT12H
X-WR-TIMEZONE:Asia/Kolkata
BEGIN:VEVENT
SUMMARY:Construkt Open Mic (Finale)
DTSTART:20150228T033000Z
DTEND:20150228T043000Z
DTSTAMP:20260421T162430Z
UID:session/VqWG5yjDXY3es3xMGCb8oj@hasgeek.com
SEQUENCE:0
CREATED:20190703T152629Z
DESCRIPTION:\n
LAST-MODIFIED:20190703T152629Z
LOCATION:Bangalore
ORGANIZER;CN="Construkt Festival":MAILTO:no-reply@hasgeek.com
BEGIN:VALARM
ACTION:display
DESCRIPTION:Construkt Open Mic (Finale) in 5 minutes
TRIGGER:-PT5M
END:VALARM
END:VEVENT
END:VCALENDAR
