BEGIN:VCALENDAR
VERSION:2.0
PRODID:-//HasGeek//NONSGML Funnel//EN
DESCRIPTION:Workshop sessions
X-WR-CALDESC:Workshop sessions
NAME:Construkt Masterclasses
X-WR-CALNAME:Construkt Masterclasses
REFRESH-INTERVAL;VALUE=DURATION:PT12H
SUMMARY:Construkt Masterclasses
TIMEZONE-ID:Asia/Kolkata
X-PUBLISHED-TTL:PT12H
X-WR-TIMEZONE:Asia/Kolkata
BEGIN:VEVENT
SUMMARY:Construkt Masterclasses
DTSTART:20150224T033000Z
DTEND:20150224T043000Z
DTSTAMP:20260421T162430Z
UID:session/F46BG6XWNHJEEJEGaN1rFp@hasgeek.com
SEQUENCE:0
CREATED:20190703T152535Z
DESCRIPTION:\n
LAST-MODIFIED:20190703T152535Z
LOCATION:Bangalore
ORGANIZER;CN="Construkt Festival":MAILTO:no-reply@hasgeek.com
BEGIN:VALARM
ACTION:display
DESCRIPTION:Construkt Masterclasses in 5 minutes
TRIGGER:-PT5M
END:VALARM
END:VEVENT
BEGIN:VEVENT
SUMMARY:Construkt Masterclasses
DTSTART:20150228T033000Z
DTEND:20150228T043000Z
DTSTAMP:20260421T162430Z
UID:session/2NVodNDsP3EDXwrrDq6MNh@hasgeek.com
SEQUENCE:0
CREATED:20190703T152542Z
DESCRIPTION:\n
LAST-MODIFIED:20190703T152542Z
LOCATION:Bangalore
ORGANIZER;CN="Construkt Festival":MAILTO:no-reply@hasgeek.com
BEGIN:VALARM
ACTION:display
DESCRIPTION:Construkt Masterclasses in 5 minutes
TRIGGER:-PT5M
END:VALARM
END:VEVENT
END:VCALENDAR
