BEGIN:VCALENDAR
VERSION:2.0
PRODID:-//HasGeek//NONSGML Funnel//EN
DESCRIPTION:Exclusive space for makers
X-WR-CALDESC:Exclusive space for makers
NAME:Construkt MakerSpace (Crawls + Finale)
X-WR-CALNAME:Construkt MakerSpace (Crawls + Finale)
REFRESH-INTERVAL;VALUE=DURATION:PT12H
SUMMARY:Construkt MakerSpace (Crawls + Finale)
TIMEZONE-ID:Asia/Kolkata
X-PUBLISHED-TTL:PT12H
X-WR-TIMEZONE:Asia/Kolkata
BEGIN:VEVENT
SUMMARY:Eyes Up - Drones\, Quadcopters\, and UAV
DTSTART:20140226T033500Z
DTEND:20140226T042000Z
DTSTAMP:20260421T175408Z
UID:session/VotAxnoZ9XTV5AP3QJEiDu@hasgeek.com
SEQUENCE:2
CATEGORIES:Intermediate
CREATED:20190703T151658Z
DESCRIPTION:I am prepared to bring the drone used in the filming of this v
 ideo\, and discuss its uses\, capabilities\, and applications. There are a
  large number of industries that could benefit with the use of this disrup
 tive technology. Construkt Festival is a perfect place for creative and in
 novative minds to learn about these flying platforms and come up with new 
 use cases for opportunity.\n\nhttps://www.youtube.com/watch?v=m4FQzm8a5X4\
 n\nPlease contact me if you have any questions.\n\nG. Scott Taulbee\nKamal
 ot@gmail.com\npixeloverhead.com\nkamalot.com\n\n### Speaker bio\n\nhttp://
 www.kamalot.com\n
LAST-MODIFIED:20230810T072606Z
LOCATION:Bangalore
ORGANIZER;CN="Construkt Festival":MAILTO:no-reply@hasgeek.com
URL:https://hasgeek.com/construkt/maker2015/schedule/eyes-up-drones-quadco
 pters-and-uav-VotAxnoZ9XTV5AP3QJEiDu
BEGIN:VALARM
ACTION:display
DESCRIPTION:Eyes Up - Drones\, Quadcopters\, and UAV in 5 minutes
TRIGGER:-PT5M
END:VALARM
END:VEVENT
BEGIN:VEVENT
SUMMARY:DIY CNC Router
DTSTART:20140226T042500Z
DTEND:20140226T051000Z
DTSTAMP:20260421T175408Z
UID:session/UL52PgusQqfJ8qo8upz2Ax@hasgeek.com
SEQUENCE:2
CATEGORIES:Intermediate
CREATED:20190703T151715Z
DESCRIPTION:Workshop of DIY CNC Router (3hrs)\n1) Use Gcode to move the x\
 ,y\,z axis. \n2) Overview of materials and milling bits. \n3) Create a sim
 ple design to carve using Easel.  \n4) Go through the Gcode. \n5) Start ca
 rving / cutting.\n\n### Speaker bio\n\nThis workshop will be co-facilitate
 d by Pavan Kumar\, CEO- Workbench Projects along with Krishna Teja\, Found
 er- Creatorbot\n
LAST-MODIFIED:20230810T072606Z
LOCATION:Bangalore
ORGANIZER;CN="Construkt Festival":MAILTO:no-reply@hasgeek.com
URL:https://hasgeek.com/construkt/maker2015/schedule/diy-cnc-router-UL52Pg
 usQqfJ8qo8upz2Ax
BEGIN:VALARM
ACTION:display
DESCRIPTION:DIY CNC Router in 5 minutes
TRIGGER:-PT5M
END:VALARM
END:VEVENT
BEGIN:VEVENT
SUMMARY:Maker Party - Hive Pop-up!
DTSTART:20140227T033500Z
DTEND:20140227T042000Z
DTSTAMP:20260421T175408Z
UID:session/PG7uMXhKNscRAk2cguJ2pF@hasgeek.com
SEQUENCE:2
CATEGORIES:Beginner
CREATED:20190703T151709Z
DESCRIPTION:* Our network of individuals and organizations host a learning
  station\, i.e. a simple table-top activity\, based on their programs. \n*
  Science fair setup/ various booths across the loft/ open space\n* Individ
 uals/ organizations demoing/ showcasing projects\n* Hands-on sessions at e
 ach station/booth\n* There will be a moving crowd\, meaning\, a group visi
 ts a station\, learn something\, ask questions\, if the facilitators have 
 something hands-on planned they participate and then move to next station.
 \n* The idea is to inspire people to learn in a interactive\, fun way\, an
 d then try building things from what they learned.\n\n* Webmaker is a part
  of Mozilla's non-profit mission to create a more open\, web literate worl
 d. Webmaker tools make it easy to create things on the web. Make your own 
 web pages\, interactive videos\, remixes\, mobile apps and more—learning
  web mechanics\, code and other valuable skills as you go. The Webmaker me
 ntors will be teaching participants to create and remix the web at the Mak
 er Fest.\n\n### Speaker bio\n\nMozilla community will be hosting the Maker
  Party.\n\n* Mozilla is a non profit\, public benefit organization. Our mi
 ssion is to promote openness\, innovation & opportunity on the Web. At Moz
 illa\, we’re a global community of technologists\, thinkers and builders
  working together to keep the Internet alive and accessible\, so people wo
 rldwide can be informed contributors and creators of the Web. We believe t
 his act of human collaboration across an open platform is essential to ind
 ividual growth and our collective future.\n\n* Webmaker is a part of Mozil
 la's non-profit mission to create a more open\, web literate world. Webmak
 er tools make it easy to create things on the web. Make your own web pages
 \, interactive videos\, remixes\, mobile apps and more—learning web mech
 anics\, code and other valuable skills as you go. The Webmaker mentors wil
 l be teaching participants to create and remix the web at the Maker Fest. 
 \n\nYou can learn more about us at:\n* https://www.mozilla.org/en-US/\n* h
 ttps://www.mozillaindia.org\n
LAST-MODIFIED:20230810T072606Z
LOCATION:Bangalore
ORGANIZER;CN="Construkt Festival":MAILTO:no-reply@hasgeek.com
URL:https://hasgeek.com/construkt/maker2015/schedule/maker-party-hive-pop-
 up-PG7uMXhKNscRAk2cguJ2pF
BEGIN:VALARM
ACTION:display
DESCRIPTION:Maker Party - Hive Pop-up! in 5 minutes
TRIGGER:-PT5M
END:VALARM
END:VEVENT
BEGIN:VEVENT
SUMMARY:Hands-on Google's Project Ara
DTSTART:20140228T033500Z
DTEND:20140228T042000Z
DTSTAMP:20260421T175408Z
UID:session/21ikKcFi8X3G1znwknjaw2@hasgeek.com
SEQUENCE:2
CATEGORIES:Beginner
CREATED:20190703T151704Z
DESCRIPTION:Project Ara is the codename for an initiative by Google that a
 ims to develop an open hardware platform for creating highly modular smart
 phones. The platform will include a structural frame (endoskeleton that ho
 lds smartphone modules of the owner's choice)\, such as a display\, camera
  or an extra battery. It would allow users to swap out malfunctioning modu
 les or upgrade individual modules as innovations emerge\, providing longer
  lifetime cycles for the handset\, and potentially reducing electronic was
 te.\n\n### Speaker bio\n\nI'm currently one of the lucky few who has manag
 ed to get my hands on the Project Ara prototype.\n
LAST-MODIFIED:20230810T072606Z
LOCATION:Bangalore
ORGANIZER;CN="Construkt Festival":MAILTO:no-reply@hasgeek.com
URL:https://hasgeek.com/construkt/maker2015/schedule/hands-on-googles-proj
 ect-ara-21ikKcFi8X3G1znwknjaw2
BEGIN:VALARM
ACTION:display
DESCRIPTION:Hands-on Google's Project Ara in 5 minutes
TRIGGER:-PT5M
END:VALARM
END:VEVENT
END:VCALENDAR
