BEGIN:VCALENDAR
VERSION:2.0
PRODID:-//HasGeek//NONSGML Funnel//EN
DESCRIPTION:Launch your startup at Construkt
X-WR-CALDESC:Launch your startup at Construkt
NAME:Construkt Launchpad (Finale)
X-WR-CALNAME:Construkt Launchpad (Finale)
REFRESH-INTERVAL;VALUE=DURATION:PT12H
SUMMARY:Construkt Launchpad (Finale)
TIMEZONE-ID:Asia/Kolkata
X-PUBLISHED-TTL:PT12H
X-WR-TIMEZONE:Asia/Kolkata
BEGIN:VEVENT
SUMMARY:Hobby in a Box - The Creative DIY store
DTSTART:20140228T032500Z
DTEND:20140228T041000Z
DTSTAMP:20260421T162430Z
UID:session/XvBLwpGXuaDgigBHMNMi3s@hasgeek.com
SEQUENCE:2
CATEGORIES:Beginner
CREATED:20190703T151829Z
DESCRIPTION:In India a person who wishes to follow crafts and hobbies face
 s two major problems.\n1) Getting right raw materials\n2 )Getting right gu
 idance\n\nWhy raw materials is problem ?\na) Indian craft market is very f
 ragmented \nb) You have to buy raw materials in bulk\nc) You can never be 
 sure of the quality as there is no branding\n\nWhy right guidance is probl
 em ?\na) Hobby classes are expensive and not flexible \nb) You would have 
 to travel long distances to get materials/guidance (time consuming)\nc) Yo
 uTube and Blogs do not give you an Indian perspective i.e. raw materials u
 sed in US are not available in India etc\n\nWhat we Do ?\nWe are an online
  portal that delivers at your DOORSTEP a DIY kit that will have all the re
 quired materials and instructions (for a particular craft or hobby) to hel
 p you make/learn/create/design things you love.\nWe have an engaged commun
 ity of crafters and we communicate with them through following channels\nY
 ouTube : https://www.youtube.com/channel/UCiger-vMj61C4m94wXZBnlQ\nWebsite
  : http://www.hobbyinabox.in/\nFacebook : https://www.facebook.com/hobbyin
 abox\nBest of it all\; nothing of this is outsourced and we are yet to see
  the funding :)\n\n### Speaker bio\n\nAs a professional crafter\, I eat\, 
 breathe and live for creativity and ideas. I am an ardent fan of DIY and b
 elieve that anyone can create anything if he/she has right materials and c
 orrect guidance. There is no mystery to be creative and innovative. I love
  conducting workshops as it gives me a chance to teach and learn skills. E
 ach participant is unique and it is amazing experience when people realise
 (when they make sometging unique or creative) that they had talents hidden
  inside them all along.\nMy Cofounder is a tech geek who loves to tinker w
 ith code data and tools. He is an ardent football fan and believes that "J
 uggad" is everything.\nOur Website is fully operational with logistics and
  payment gateway and we serve customers from PAN India :) http://www.hobby
 inabox.in/\n\nCurrently I am pursuing my MBA from XLRI Jamshedpur. And my 
 cofounder is studying in IIM Bangalore.\n
LAST-MODIFIED:20230810T072606Z
LOCATION:Bangalore
ORGANIZER;CN="Construkt Festival":MAILTO:no-reply@hasgeek.com
URL:https://hasgeek.com/construkt/launchpad2015/schedule/hobby-in-a-box-th
 e-creative-diy-store-XvBLwpGXuaDgigBHMNMi3s
BEGIN:VALARM
ACTION:display
DESCRIPTION:Hobby in a Box - The Creative DIY store in 5 minutes
TRIGGER:-PT5M
END:VALARM
END:VEVENT
END:VCALENDAR
