BEGIN:VCALENDAR
VERSION:2.0
PRODID:-//HasGeek//NONSGML Funnel//EN
DESCRIPTION:Innovations in the IoT space
X-WR-CALDESC:Innovations in the IoT space
NAME:Internet of Things (Crawls + Finale)
X-WR-CALNAME:Internet of Things (Crawls + Finale)
REFRESH-INTERVAL;VALUE=DURATION:PT12H
SUMMARY:Internet of Things (Crawls + Finale)
TIMEZONE-ID:Asia/Kolkata
X-PUBLISHED-TTL:PT12H
X-WR-TIMEZONE:Asia/Kolkata
BEGIN:VEVENT
SUMMARY:Internet of Things (Crawls + Finale)
DTSTART:20140224T033000Z
DTEND:20140224T043000Z
DTSTAMP:20260421T162536Z
UID:session/WdAnj9xEGqPVxX26CKx78B@hasgeek.com
SEQUENCE:0
CREATED:20190703T151536Z
DESCRIPTION:\n
LAST-MODIFIED:20190703T151536Z
LOCATION:The Ground - Jayamahal Palace\nIN
ORGANIZER;CN="Construkt Festival":MAILTO:no-reply@hasgeek.com
BEGIN:VALARM
ACTION:display
DESCRIPTION:Internet of Things (Crawls + Finale) in The Ground in 5 minute
 s
TRIGGER:-PT5M
END:VALARM
END:VEVENT
BEGIN:VEVENT
SUMMARY:Internet of Things (Crawls + Finale)
DTSTART:20140228T033000Z
DTEND:20140228T043000Z
DTSTAMP:20260421T162536Z
UID:session/HgF1PZdgSr1fXLzqhYepNb@hasgeek.com
SEQUENCE:0
CREATED:20190703T151548Z
DESCRIPTION:\n
LAST-MODIFIED:20190703T151548Z
LOCATION:The Ground - Jayamahal Palace\nIN
ORGANIZER;CN="Construkt Festival":MAILTO:no-reply@hasgeek.com
BEGIN:VALARM
ACTION:display
DESCRIPTION:Internet of Things (Crawls + Finale) in The Ground in 5 minute
 s
TRIGGER:-PT5M
END:VALARM
END:VEVENT
END:VCALENDAR
