BEGIN:VCALENDAR
VERSION:2.0
PRODID:-//HasGeek//NONSGML Funnel//EN
DESCRIPTION:Host an open session with Construkt Festival at your space
X-WR-CALDESC:Host an open session with Construkt Festival at your space
NAME:Fringe Talks
X-WR-CALNAME:Fringe Talks
REFRESH-INTERVAL;VALUE=DURATION:PT12H
SUMMARY:Fringe Talks
TIMEZONE-ID:Asia/Kolkata
X-PUBLISHED-TTL:PT12H
X-WR-TIMEZONE:Asia/Kolkata
BEGIN:VEVENT
SUMMARY:Fringe Talks
DTSTART:20150224T033000Z
DTEND:20150224T043000Z
DTSTAMP:20260421T162536Z
UID:session/4UYHoUeDarQtxyfrwv997L@hasgeek.com
SEQUENCE:0
CREATED:20190703T152445Z
DESCRIPTION:\n
LAST-MODIFIED:20190703T152445Z
LOCATION:Bangalore
ORGANIZER;CN="Construkt Festival":MAILTO:no-reply@hasgeek.com
BEGIN:VALARM
ACTION:display
DESCRIPTION:Fringe Talks in 5 minutes
TRIGGER:-PT5M
END:VALARM
END:VEVENT
BEGIN:VEVENT
SUMMARY:Fringe Talks
DTSTART:20150225T033000Z
DTEND:20150225T043000Z
DTSTAMP:20260421T162536Z
UID:session/2NF1EKWy1wwhqNwTWuzB3x@hasgeek.com
SEQUENCE:0
CREATED:20190703T152451Z
DESCRIPTION:\n
LAST-MODIFIED:20190703T152451Z
LOCATION:Bangalore
ORGANIZER;CN="Construkt Festival":MAILTO:no-reply@hasgeek.com
BEGIN:VALARM
ACTION:display
DESCRIPTION:Fringe Talks in 5 minutes
TRIGGER:-PT5M
END:VALARM
END:VEVENT
END:VCALENDAR
