BEGIN:VCALENDAR
VERSION:2.0
PRODID:-//HasGeek//NONSGML Funnel//EN
DESCRIPTION:Entertain and Express
X-WR-CALDESC:Entertain and Express
NAME:Entertainment\, acts & performances
X-WR-CALNAME:Entertainment\, acts & performances
REFRESH-INTERVAL;VALUE=DURATION:PT12H
SUMMARY:Entertainment\, acts & performances
TIMEZONE-ID:Asia/Kolkata
X-PUBLISHED-TTL:PT12H
X-WR-TIMEZONE:Asia/Kolkata
BEGIN:VEVENT
SUMMARY:Entertainment\, acts & performances
DTSTART:20150224T033000Z
DTEND:20150224T043000Z
DTSTAMP:20260421T165030Z
UID:session/HrsM4d7N5qsheSB68v3VhP@hasgeek.com
SEQUENCE:0
CREATED:20190703T152406Z
DESCRIPTION:\n
LAST-MODIFIED:20190703T152409Z
LOCATION:Bangalore
ORGANIZER;CN="Construkt Festival":MAILTO:no-reply@hasgeek.com
BEGIN:VALARM
ACTION:display
DESCRIPTION:Entertainment\, acts & performances in 5 minutes
TRIGGER:-PT5M
END:VALARM
END:VEVENT
BEGIN:VEVENT
SUMMARY:Entertainment\, acts & performances
DTSTART:20150228T033000Z
DTEND:20150228T043000Z
DTSTAMP:20260421T165030Z
UID:session/VL85FPhBC4xkU6rD6c8u6Z@hasgeek.com
SEQUENCE:0
CREATED:20190703T152415Z
DESCRIPTION:\n
LAST-MODIFIED:20190703T152418Z
LOCATION:Bangalore
ORGANIZER;CN="Construkt Festival":MAILTO:no-reply@hasgeek.com
BEGIN:VALARM
ACTION:display
DESCRIPTION:Entertainment\, acts & performances in 5 minutes
TRIGGER:-PT5M
END:VALARM
END:VEVENT
END:VCALENDAR
