BEGIN:VCALENDAR
VERSION:2.0
PRODID:-//HasGeek//NONSGML Funnel//EN
DESCRIPTION:Startups open their doors to share their learnings
X-WR-CALDESC:Startups open their doors to share their learnings
NAME:Construkt Crawls
X-WR-CALNAME:Construkt Crawls
REFRESH-INTERVAL;VALUE=DURATION:PT12H
SUMMARY:Construkt Crawls
TIMEZONE-ID:Asia/Kolkata
X-PUBLISHED-TTL:PT12H
X-WR-TIMEZONE:Asia/Kolkata
BEGIN:VEVENT
SUMMARY:Mobile first
DTSTART:20150226T033000Z
DTEND:20150226T041500Z
DTSTAMP:20260421T165024Z
UID:session/3pmYqvcmeBJtAmNdjy61px@hasgeek.com
SEQUENCE:2
CATEGORIES:Intermediate
CREATED:20190703T152101Z
DESCRIPTION:swissnex India will host 5 startups from Switzerland to facili
 tate conversations on a broad topic 'Mobile First'\n\n### Speaker bio\n\nB
 arbara Maim\, Minsh \nPhilip Sunil Urech\, Crowdguard\nDavide\, Smart Dete
 ction\n
LAST-MODIFIED:20230810T072606Z
LOCATION:Bangalore
ORGANIZER;CN="Construkt Festival":MAILTO:no-reply@hasgeek.com
URL:https://hasgeek.com/construkt/crawls2015/schedule/mobile-first-3pmYqvc
 meBJtAmNdjy61px
BEGIN:VALARM
ACTION:display
DESCRIPTION:Mobile first in 5 minutes
TRIGGER:-PT5M
END:VALARM
END:VEVENT
BEGIN:VEVENT
SUMMARY:Intercultural Business
DTSTART:20150227T032500Z
DTEND:20150227T041000Z
DTSTAMP:20260421T165024Z
UID:session/X3vfFNgTZNVqjLTCwdv1Q1@hasgeek.com
SEQUENCE:2
CATEGORIES:Beginner
CREATED:20190703T152107Z
DESCRIPTION:Steps to do effective business with different parts of the glo
 be keeping their diverse culture\, timezone\, language and other differenc
 es aside\n\nThis talk will help startups planning to venture out in differ
 ent countries or have clients who are from other countries\n\nThis was a s
 tar presentation done in Germany in Nov 2014\, to address the German start
 ups to venture in India and try out Indian technological talent and how ev
 en with all the cultural\, language and time barriers it is possible to do
  effective business\n\n### Speaker bio\n\nSpeaker is Co-Founder of AppDra 
 Software Solutions- A NASSCOM rated top 8 startup in the country\nSpeaker 
 is Co-Founder of Gharbook.com\nSpeaker is now a guest speaker at Innovatio
 ns Cafe\, Munich University - Germany.\nMentor- With helping startups stre
 amline in India and now in Germany.\nStartup-Speacialist - with having hel
 ped international companies establish in India.\n
LAST-MODIFIED:20230810T072606Z
LOCATION:Bangalore
ORGANIZER;CN="Construkt Festival":MAILTO:no-reply@hasgeek.com
URL:https://hasgeek.com/construkt/crawls2015/schedule/intercultural-busine
 ss-X3vfFNgTZNVqjLTCwdv1Q1
BEGIN:VALARM
ACTION:display
DESCRIPTION:Intercultural Business in 5 minutes
TRIGGER:-PT5M
END:VALARM
END:VEVENT
END:VCALENDAR
