BEGIN:VCALENDAR
VERSION:2.0
PRODID:-//HasGeek//NONSGML Funnel//EN
DESCRIPTION:Empowering developers to build beneficial AI systems
X-WR-CALDESC:Empowering developers to build beneficial AI systems
NAME:Responsible AI
X-WR-CALNAME:Responsible AI
REFRESH-INTERVAL;VALUE=DURATION:PT12H
SUMMARY:Responsible AI
TIMEZONE-ID:Asia/Kolkata
X-PUBLISHED-TTL:PT12H
X-WR-TIMEZONE:Asia/Kolkata
BEGIN:VEVENT
SUMMARY:Responsible AI Aug Roundtable (Rescheduled)
DTSTART:20240913T133000Z
DTEND:20240913T143000Z
DTSTAMP:20260421T125440Z
UID:session/Jn3uLg5Ti3SyGrmSyYDT2V@hasgeek.com
SEQUENCE:3
CREATED:20240911T225247Z
DESCRIPTION:Agenda:\n\n1. Continue discussing how popular platforms handle
  usage data and user content\n   - Demo of an experiment using LLM and gra
 ph database to decipher ToS and Privacy Policies\n   - Build community res
 ources for easy reference\n\n2. Many platforms like Google are racing to b
 ring AI manipulation tools to their users\n   - How to identify AI-manipul
 ated content (if it is even possible at scale)\n   - What are the differen
 t ways through which authenticity of content can be tracked\n\n3. Catch up
  on AI and Data Protection regulations around the world\n   - EU AI Act ca
 me into force on August 1\, 2023\n   - India's Data Protection Act (DPDPA)
  is set to come into force in 2024 as well\n\nJoin us on https://meet.goog
 le.com/rgt-enqk-bpq
LAST-MODIFIED:20240912T015839Z
LOCATION:Online
ORGANIZER;CN="Community Tech":MAILTO:no-reply@hasgeek.com
BEGIN:VALARM
ACTION:display
DESCRIPTION:Responsible AI Aug Roundtable (Rescheduled) in 5 minutes
TRIGGER:-PT5M
END:VALARM
END:VEVENT
BEGIN:VEVENT
SUMMARY:October Roundtable
DTSTART:20241025T133000Z
DTEND:20241025T143000Z
DTSTAMP:20260421T125440Z
UID:session/9ZRb4T2AHCd5qnm3X1AoXj@hasgeek.com
SEQUENCE:0
CREATED:20240923T001223Z
LAST-MODIFIED:20240923T001223Z
LOCATION:Online
ORGANIZER;CN="Community Tech":MAILTO:no-reply@hasgeek.com
BEGIN:VALARM
ACTION:display
DESCRIPTION:October Roundtable in 5 minutes
TRIGGER:-PT5M
END:VALARM
END:VEVENT
END:VCALENDAR
