BEGIN:VCALENDAR
VERSION:2.0
PRODID:-//HasGeek//NONSGML Funnel//EN
DESCRIPTION:Detangling Web3 and understanding decentralized tech
X-WR-CALDESC:Detangling Web3 and understanding decentralized tech
NAME:Decentralized Tech
X-WR-CALNAME:Decentralized Tech
REFRESH-INTERVAL;VALUE=DURATION:PT12H
SUMMARY:Decentralized Tech
TIMEZONE-ID:Asia/Kolkata
X-PUBLISHED-TTL:PT12H
X-WR-TIMEZONE:Asia/Kolkata
BEGIN:VEVENT
SUMMARY:Lets Build Together : Kickoff
DTSTART:20241106T130000Z
DTEND:20241106T140000Z
DTSTAMP:20260420T150337Z
UID:session/H4s9q9jp8QWyXDNY6zFG9t@hasgeek.com
SEQUENCE:1
CREATED:20241030T200528Z
DESCRIPTION:We kick off collaborative work for building our solutions. Che
 ck out our work requirements if you would like to join : http://has.gy/6vk
 X
LAST-MODIFIED:20241030T200536Z
LOCATION:Online
ORGANIZER;CN="Community Tech":MAILTO:no-reply@hasgeek.com
BEGIN:VALARM
ACTION:display
DESCRIPTION:Lets Build Together : Kickoff in 5 minutes
TRIGGER:-PT5M
END:VALARM
END:VEVENT
END:VCALENDAR
