BEGIN:VCALENDAR
VERSION:2.0
PRODID:-//HasGeek//NONSGML Funnel//EN
DESCRIPTION:Interact with former GSoC Partitipants
X-WR-CALDESC:Interact with former GSoC Partitipants
NAME:GSoC Meetup October 2016
X-WR-CALNAME:GSoC Meetup October 2016
REFRESH-INTERVAL;VALUE=DURATION:PT12H
SUMMARY:GSoC Meetup October 2016
TIMEZONE-ID:Asia/Kolkata
X-PUBLISHED-TTL:PT12H
X-WR-TIMEZONE:Asia/Kolkata
BEGIN:VEVENT
SUMMARY:Introductions
DTSTART:20161013T033000Z
DTEND:20161013T043000Z
DTSTAMP:20260419T223224Z
UID:session/DyChyRvc5r3tBJkQMLQD2d@hasgeek.com
SEQUENCE:0
CREATED:20190708T152341Z
DESCRIPTION:\n
GEO:28.6968552;77.1424743283951
LAST-MODIFIED:20190708T152341Z
LOCATION:Room - Coding Blocks\, Pitampura\nIN
ORGANIZER;CN="Coding Blocks":MAILTO:no-reply@hasgeek.com
BEGIN:VALARM
ACTION:display
DESCRIPTION:Introductions in Room in 5 minutes
TRIGGER:-PT5M
END:VALARM
END:VEVENT
BEGIN:VEVENT
SUMMARY:Introductions
DTSTART:20161013T033000Z
DTEND:20161013T043000Z
DTSTAMP:20260419T223224Z
UID:session/JxWzdnkvW1r3hapXjWxXSS@hasgeek.com
SEQUENCE:0
CREATED:20190708T152341Z
DESCRIPTION:\n
GEO:28.6968552;77.1424743283951
LAST-MODIFIED:20190708T152341Z
LOCATION:Room - Coding Blocks\, Pitampura\nIN
ORGANIZER;CN="Coding Blocks":MAILTO:no-reply@hasgeek.com
BEGIN:VALARM
ACTION:display
DESCRIPTION:Introductions in Room in 5 minutes
TRIGGER:-PT5M
END:VALARM
END:VEVENT
END:VCALENDAR
