BEGIN:VCALENDAR
VERSION:2.0
PRODID:-//HasGeek//NONSGML Funnel//EN
DESCRIPTION:Join a multi-disciplinary discussion with a panel of experts f
 ocusing on Enforcement of Responsible Artificial Intelligence (AI)\, a pol
 icy document floated by the NITI Aayog. Experts will discuss various issue
 s at the intersection of AI\, law\, ethics
X-WR-CALDESC:Join a multi-disciplinary discussion with a panel of experts 
 focusing on Enforcement of Responsible Artificial Intelligence (AI)\, a po
 licy document floated by the NITI Aayog. Experts will discuss various issu
 es at the intersection of AI\, law\, ethics
NAME:Expert Panel Discussion on Enforcement of Responsible AI for All
X-WR-CALNAME:Expert Panel Discussion on Enforcement of Responsible AI for 
 All
REFRESH-INTERVAL;VALUE=DURATION:PT12H
SUMMARY:Expert Panel Discussion on Enforcement of Responsible AI for All
TIMEZONE-ID:Asia/Kolkata
X-PUBLISHED-TTL:PT12H
X-WR-TIMEZONE:Asia/Kolkata
BEGIN:VEVENT
SUMMARY:Expert Panel Discussion on Enforcement of Responsible AI for All
DTSTART:20210109T110000Z
DTEND:20210109T110500Z
DTSTAMP:20260420T053842Z
UID:session/TfkUV5ANQE7Q9ozQJEbCh1@hasgeek.com
SEQUENCE:1
CREATED:20210106T174123Z
DESCRIPTION:NITI Aayog has floated a document proposing the creation of an
  Artificial Intelligence oversight body for the enforcement of responsible
  AI practices.\n\nCivis and Mandate Project are conducting an Expert Panel
  Discussion on the policy proposal on the 9th of January from 4:30-6:00 pm
 . Mr. Apar Gupta (Executive Director\, Internet Freedom Foundation)\, Dr. 
 Sarayu Natarajan (Founder\, Aapti Institute)\, Ms. Aparna Ashok (AI Ethics
  Researcher\, Obidos Consulting Ltd.) and Mr. Rohin Garg (AI Researcher\, 
 Internet Freedom Foundation) will be on the panel.\n\nWe would like to eng
 age all participants in a multi-disciplinary dialogue in order to identify
  key issues\, and provide inputs on how responsible AI practices can be im
 plemented. The panelists will share their views on various aspects of the 
 document and responsible AI. The intention is to help everyone gain a bett
 er understanding of issues related to artificial intelligence\, its associ
 ated risks and advantages\, and to promote informed discussion on such top
 ics among the general public.\n\nPlease share your views on the policy usi
 ng Civis' ongoing public consultation using this link.\n\nParticipation wi
 ll be on a first come\, first served basis for the webinar.\n
LAST-MODIFIED:20230108T103046Z
LOCATION:Online
ORGANIZER;CN=Civis:MAILTO:no-reply@hasgeek.com
BEGIN:VALARM
ACTION:display
DESCRIPTION:Expert Panel Discussion on Enforcement of Responsible AI for A
 ll in 5 minutes
TRIGGER:-PT5M
END:VALARM
END:VEVENT
BEGIN:VEVENT
SUMMARY:Expert Panel Discussion on Enforcement of Responsible AI for All
DTSTART:20210109T110000Z
DTEND:20210109T123000Z
DTSTAMP:20260420T053842Z
UID:session/TK2t4qNb1kxDLgBJJYAevA@hasgeek.com
SEQUENCE:1
CREATED:20210106T174231Z
DESCRIPTION:NITI Aayog has floated a document proposing the creation of an
  Artificial Intelligence oversight body for the enforcement of responsible
  AI practices.\n\nCivis and Mandate Project are conducting an Expert Panel
  Discussion on the policy proposal on the 9th of January from 4:30-6:00 pm
 . Mr. Apar Gupta (Executive Director\, Internet Freedom Foundation)\, Dr. 
 Sarayu Natarajan (Founder\, Aapti Institute)\, Ms. Aparna Ashok (AI Ethics
  Researcher\, Obidos Consulting Ltd.) and Mr. Rohin Garg (AI Researcher\, 
 Internet Freedom Foundation) will be on the panel.\n\nWe would like to eng
 age all participants in a multi-disciplinary dialogue in order to identify
  key issues\, and provide inputs on how responsible AI practices can be im
 plemented. The panelists will share their views on various aspects of the 
 document and responsible AI. The intention is to help everyone gain a bett
 er understanding of issues related to artificial intelligence\, its associ
 ated risks and advantages\, and to promote informed discussion on such top
 ics among the general public.\n\nPlease share your views on the policy usi
 ng Civis' ongoing public consultation using this link.\n\nParticipation wi
 ll be on a first come\, first served basis for the webinar.\n
LAST-MODIFIED:20230108T103046Z
LOCATION:Online
ORGANIZER;CN=Civis:MAILTO:no-reply@hasgeek.com
BEGIN:VALARM
ACTION:display
DESCRIPTION:Expert Panel Discussion on Enforcement of Responsible AI for A
 ll in 5 minutes
TRIGGER:-PT5M
END:VALARM
END:VEVENT
END:VCALENDAR
