BEGIN:VCALENDAR
VERSION:2.0
PRODID:-//HasGeek//NONSGML Funnel//EN
DESCRIPTION:A collaborative classroom to learn about concepts in PayTech
X-WR-CALDESC:A collaborative classroom to learn about concepts in PayTech
NAME:Study Circle on Account Aggregators
X-WR-CALNAME:Study Circle on Account Aggregators
REFRESH-INTERVAL;VALUE=DURATION:PT12H
SUMMARY:Study Circle on Account Aggregators
TIMEZONE-ID:Asia/Kolkata
X-PUBLISHED-TTL:PT12H
X-WR-TIMEZONE:Asia/Kolkata
BEGIN:VEVENT
SUMMARY:Introduction to the Study Circle
DTSTART:20200926T103000Z
DTEND:20200926T103500Z
DTSTAMP:20260421T065147Z
UID:session/Q8tG7BmoExxFPBr6EZnoWH@hasgeek.com
SEQUENCE:0
CREATED:20200917T045945Z
DESCRIPTION:\n
LAST-MODIFIED:20200917T045945Z
LOCATION:Online
ORGANIZER;CN="Cashless Consumer":MAILTO:no-reply@hasgeek.com
BEGIN:VALARM
ACTION:display
DESCRIPTION:Introduction to the Study Circle in 5 minutes
TRIGGER:-PT5M
END:VALARM
END:VEVENT
BEGIN:VEVENT
SUMMARY:On the concept of Account Aggregators and implementation
DTSTART:20200926T103500Z
DTEND:20200926T110500Z
DTSTAMP:20260421T065147Z
UID:session/3vgK6hrvk5oKYzr1G6SUga@hasgeek.com
SEQUENCE:0
CREATED:20200917T050016Z
DESCRIPTION:\n
LAST-MODIFIED:20200917T050019Z
LOCATION:Online
ORGANIZER;CN="Cashless Consumer":MAILTO:no-reply@hasgeek.com
BEGIN:VALARM
ACTION:display
DESCRIPTION:On the concept of Account Aggregators and implementation in 5 
 minutes
TRIGGER:-PT5M
END:VALARM
END:VEVENT
BEGIN:VEVENT
SUMMARY:On the concept of Account Aggregators and implementation
DTSTART:20200926T110500Z
DTEND:20200926T113500Z
DTSTAMP:20260421T065147Z
UID:session/6Q7JtPV26bwt8Tr1k2nBoP@hasgeek.com
SEQUENCE:0
CREATED:20200917T050053Z
DESCRIPTION:\n
LAST-MODIFIED:20200917T050100Z
LOCATION:Online
ORGANIZER;CN="Cashless Consumer":MAILTO:no-reply@hasgeek.com
BEGIN:VALARM
ACTION:display
DESCRIPTION:On the concept of Account Aggregators and implementation in 5 
 minutes
TRIGGER:-PT5M
END:VALARM
END:VEVENT
BEGIN:VEVENT
SUMMARY:Q&A session
DTSTART:20200926T113500Z
DTEND:20200926T120000Z
DTSTAMP:20260421T065147Z
UID:session/2sHRsFEcd8mUwqzDCCvZeW@hasgeek.com
SEQUENCE:0
CREATED:20200917T050106Z
DESCRIPTION:\n
LAST-MODIFIED:20200917T050109Z
LOCATION:Online
ORGANIZER;CN="Cashless Consumer":MAILTO:no-reply@hasgeek.com
BEGIN:VALARM
ACTION:display
DESCRIPTION:Q&A session in 5 minutes
TRIGGER:-PT5M
END:VALARM
END:VEVENT
BEGIN:VEVENT
SUMMARY:Summary of takeaways
DTSTART:20200926T120000Z
DTEND:20200926T121500Z
DTSTAMP:20260421T065147Z
UID:session/S5j135piZEJeKMhEUJCuP@hasgeek.com
SEQUENCE:0
CREATED:20200917T050115Z
DESCRIPTION:\n
LAST-MODIFIED:20200917T050120Z
LOCATION:Online
ORGANIZER;CN="Cashless Consumer":MAILTO:no-reply@hasgeek.com
BEGIN:VALARM
ACTION:display
DESCRIPTION:Summary of takeaways in 5 minutes
TRIGGER:-PT5M
END:VALARM
END:VEVENT
END:VCALENDAR
