BEGIN:VCALENDAR
VERSION:2.0
PRODID:-//HasGeek//NONSGML Funnel//EN
DESCRIPTION:A collaborative classroom to learn in detail how Direct Benefi
 ts Transfer (DBT) in India works end to end
X-WR-CALDESC:A collaborative classroom to learn in detail how Direct Benef
 its Transfer (DBT) in India works end to end
NAME:Study Circle - Understanding G2C Payments - PFMS / APB / AePS
X-WR-CALNAME:Study Circle - Understanding G2C Payments - PFMS / APB / AePS
REFRESH-INTERVAL;VALUE=DURATION:PT12H
SUMMARY:Study Circle - Understanding G2C Payments - PFMS / APB / AePS
TIMEZONE-ID:Asia/Kolkata
X-PUBLISHED-TTL:PT12H
X-WR-TIMEZONE:Asia/Kolkata
BEGIN:VEVENT
SUMMARY:G Side - G2X payments - PFMS for DBT
DTSTART:20200725T103000Z
DTEND:20200725T105500Z
DTSTAMP:20260421T065113Z
UID:session/GpGBX32amHnfsZjJDeuyhr@hasgeek.com
SEQUENCE:0
CREATED:20200713T131459Z
DESCRIPTION:\n
LAST-MODIFIED:20200715T020018Z
LOCATION:Virtual
ORGANIZER;CN="Cashless Consumer":MAILTO:no-reply@hasgeek.com
BEGIN:VALARM
ACTION:display
DESCRIPTION:G Side - G2X payments - PFMS for DBT in 5 minutes
TRIGGER:-PT5M
END:VALARM
END:VEVENT
BEGIN:VEVENT
SUMMARY:The switch - APBS = NACH Credit + Aadhaar Mapper
DTSTART:20200725T105500Z
DTEND:20200725T112000Z
DTSTAMP:20260421T065113Z
UID:session/Mj7X2QQn4SWzJqJd8K4Q6n@hasgeek.com
SEQUENCE:0
CREATED:20200713T131547Z
DESCRIPTION:\n
LAST-MODIFIED:20200715T020041Z
LOCATION:Virtual
ORGANIZER;CN="Cashless Consumer":MAILTO:no-reply@hasgeek.com
BEGIN:VALARM
ACTION:display
DESCRIPTION:The switch - APBS = NACH Credit + Aadhaar Mapper in 5 minutes
TRIGGER:-PT5M
END:VALARM
END:VEVENT
BEGIN:VEVENT
SUMMARY:C Side - AePS for cash out
DTSTART:20200725T112000Z
DTEND:20200725T115000Z
DTSTAMP:20260421T065113Z
UID:session/7xpQPvYh55nF3VtNApYF1G@hasgeek.com
SEQUENCE:0
CREATED:20200713T131605Z
DESCRIPTION:\n
LAST-MODIFIED:20200715T011221Z
LOCATION:Virtual
ORGANIZER;CN="Cashless Consumer":MAILTO:no-reply@hasgeek.com
BEGIN:VALARM
ACTION:display
DESCRIPTION:C Side - AePS for cash out in 5 minutes
TRIGGER:-PT5M
END:VALARM
END:VEVENT
BEGIN:VEVENT
SUMMARY:Discusion / Q & A
DTSTART:20200725T115000Z
DTEND:20200725T121500Z
DTSTAMP:20260421T065113Z
UID:session/4EutXavFMxFzYifnAvteRC@hasgeek.com
SEQUENCE:0
CREATED:20200715T011245Z
DESCRIPTION:\n
LAST-MODIFIED:20200715T011245Z
LOCATION:Virtual
ORGANIZER;CN="Cashless Consumer":MAILTO:no-reply@hasgeek.com
BEGIN:VALARM
ACTION:display
DESCRIPTION:Discusion / Q & A in 5 minutes
TRIGGER:-PT5M
END:VALARM
END:VEVENT
END:VCALENDAR
