BEGIN:VCALENDAR
VERSION:2.0
PRODID:-//HasGeek//NONSGML Funnel//EN
DESCRIPTION:A collaborative classroom to learn in detail about all things 
 Bharat Bill Payment System
X-WR-CALDESC:A collaborative classroom to learn in detail about all things
  Bharat Bill Payment System
NAME:Study Circle - Bharat Bill Payment System
X-WR-CALNAME:Study Circle - Bharat Bill Payment System
REFRESH-INTERVAL;VALUE=DURATION:PT12H
SUMMARY:Study Circle - Bharat Bill Payment System
TIMEZONE-ID:Asia/Kolkata
X-PUBLISHED-TTL:PT12H
X-WR-TIMEZONE:Asia/Kolkata
BEGIN:VEVENT
SUMMARY:BBPS - Policy & Regulatory landscape - History and business proble
 m overview
DTSTART:20200613T103000Z
DTEND:20200613T105000Z
DTSTAMP:20260421T071251Z
UID:session/UMoLC2AZePxW1Zi1SdwP3t@hasgeek.com
SEQUENCE:1
CREATED:20200602T172809Z
DESCRIPTION:This session goes into conception\, history of BBPS from polic
 y\, regulatory and business perspective.\n
LAST-MODIFIED:20230108T103046Z
LOCATION:Online
ORGANIZER;CN="Cashless Consumer":MAILTO:no-reply@hasgeek.com
BEGIN:VALARM
ACTION:display
DESCRIPTION:BBPS - Policy & Regulatory landscape - History and business pr
 oblem overview in 5 minutes
TRIGGER:-PT5M
END:VALARM
END:VEVENT
BEGIN:VEVENT
SUMMARY:Technical Specifications - Reading
DTSTART:20200613T105000Z
DTEND:20200613T111000Z
DTSTAMP:20260421T071251Z
UID:session/Q899Ytx9uStpPPQmbfijG3@hasgeek.com
SEQUENCE:1
CREATED:20200607T085726Z
DESCRIPTION:Reading technical specifications of BBPS\n
LAST-MODIFIED:20230108T103046Z
LOCATION:Online
ORGANIZER;CN="Cashless Consumer":MAILTO:no-reply@hasgeek.com
BEGIN:VALARM
ACTION:display
DESCRIPTION:Technical Specifications - Reading in 5 minutes
TRIGGER:-PT5M
END:VALARM
END:VEVENT
BEGIN:VEVENT
SUMMARY:Play with a sandbox
DTSTART:20200613T111000Z
DTEND:20200613T113000Z
DTSTAMP:20260421T071251Z
UID:session/BKyBQtwq9TWi1E5ouAkXU@hasgeek.com
SEQUENCE:1
CREATED:20200607T085836Z
DESCRIPTION:Play with a sandbox to see things in action.\n
LAST-MODIFIED:20230108T103046Z
LOCATION:Online
ORGANIZER;CN="Cashless Consumer":MAILTO:no-reply@hasgeek.com
BEGIN:VALARM
ACTION:display
DESCRIPTION:Play with a sandbox in 5 minutes
TRIGGER:-PT5M
END:VALARM
END:VEVENT
BEGIN:VEVENT
SUMMARY:Privacy\, Data Economy discussion on BBPS
DTSTART:20200613T113000Z
DTEND:20200613T114000Z
DTSTAMP:20260421T071251Z
UID:session/KK8N8bqSDrNMFB3dmUPCWT@hasgeek.com
SEQUENCE:1
CREATED:20200607T085949Z
DESCRIPTION:Impact of BBPS data on privacy\, credit scoring\, Public Credi
 t Registry\, #BBPSPrivacyBreach\n
LAST-MODIFIED:20230108T103046Z
LOCATION:Online
ORGANIZER;CN="Cashless Consumer":MAILTO:no-reply@hasgeek.com
BEGIN:VALARM
ACTION:display
DESCRIPTION:Privacy\, Data Economy discussion on BBPS in 5 minutes
TRIGGER:-PT5M
END:VALARM
END:VEVENT
BEGIN:VEVENT
SUMMARY:Group discussion / Q & A
DTSTART:20200613T114000Z
DTEND:20200613T120500Z
DTSTAMP:20260421T071251Z
UID:session/XWTHFKdw1DH2XxXVd6zsks@hasgeek.com
SEQUENCE:0
CREATED:20200607T090022Z
DESCRIPTION:\n
LAST-MODIFIED:20200607T090022Z
LOCATION:Online
ORGANIZER;CN="Cashless Consumer":MAILTO:no-reply@hasgeek.com
BEGIN:VALARM
ACTION:display
DESCRIPTION:Group discussion / Q & A in 5 minutes
TRIGGER:-PT5M
END:VALARM
END:VEVENT
BEGIN:VEVENT
SUMMARY:Conclusion and summary
DTSTART:20200613T120500Z
DTEND:20200613T121500Z
DTSTAMP:20260421T071251Z
UID:session/CLLnrbcPCxHPv3S1y1TJMz@hasgeek.com
SEQUENCE:0
CREATED:20200607T092855Z
DESCRIPTION:\n
LAST-MODIFIED:20200607T092901Z
LOCATION:Online
ORGANIZER;CN="Cashless Consumer":MAILTO:no-reply@hasgeek.com
BEGIN:VALARM
ACTION:display
DESCRIPTION:Conclusion and summary in 5 minutes
TRIGGER:-PT5M
END:VALARM
END:VEVENT
END:VCALENDAR
