BEGIN:VCALENDAR
VERSION:2.0
PRODID:-//HasGeek//NONSGML Funnel//EN
DESCRIPTION:Security analysis of UPI by reverse engineering
X-WR-CALDESC:Security analysis of UPI by reverse engineering
NAME:Security Analysis of Unified Payments Interface and Payment Apps in I
 ndia - Paper presentation
X-WR-CALNAME:Security Analysis of Unified Payments Interface and Payment A
 pps in India - Paper presentation
REFRESH-INTERVAL;VALUE=DURATION:PT12H
SUMMARY:Security Analysis of Unified Payments Interface and Payment Apps i
 n India - Paper presentation
TIMEZONE-ID:Asia/Kolkata
X-PUBLISHED-TTL:PT12H
X-WR-TIMEZONE:Asia/Kolkata
BEGIN:VEVENT
SUMMARY:Security analysis of UPI by reverse engineering
DTSTART:20200905T143000Z
DTEND:20200905T150000Z
DTSTAMP:20260421T072220Z
UID:session/48Cu6L47wrn8fcA6LjJS66@hasgeek.com
SEQUENCE:0
CREATED:20200824T055429Z
DESCRIPTION:\n
LAST-MODIFIED:20200824T055902Z
LOCATION:Online
ORGANIZER;CN="Cashless Consumer":MAILTO:no-reply@hasgeek.com
BEGIN:VALARM
ACTION:display
DESCRIPTION:Security analysis of UPI by reverse engineering in 5 minutes
TRIGGER:-PT5M
END:VALARM
END:VEVENT
BEGIN:VEVENT
SUMMARY:Discussion by discussants
DTSTART:20200905T150000Z
DTEND:20200905T153000Z
DTSTAMP:20260421T072220Z
UID:session/5kFbuKeXS5BYVNNAUTmtux@hasgeek.com
SEQUENCE:0
CREATED:20200824T055457Z
DESCRIPTION:\n
LAST-MODIFIED:20200825T053756Z
LOCATION:Online
ORGANIZER;CN="Cashless Consumer":MAILTO:no-reply@hasgeek.com
BEGIN:VALARM
ACTION:display
DESCRIPTION:Discussion by discussants in 5 minutes
TRIGGER:-PT5M
END:VALARM
END:VEVENT
BEGIN:VEVENT
SUMMARY:Audience Q & A
DTSTART:20200905T153000Z
DTEND:20200905T160000Z
DTSTAMP:20260421T072220Z
UID:session/YWrtv2q1XzCrJguw7RhuU4@hasgeek.com
SEQUENCE:1
CREATED:20200824T055508Z
DESCRIPTION:Moderated by Srikanth L\n
LAST-MODIFIED:20230108T103046Z
LOCATION:Online
ORGANIZER;CN="Cashless Consumer":MAILTO:no-reply@hasgeek.com
BEGIN:VALARM
ACTION:display
DESCRIPTION:Audience Q & A in 5 minutes
TRIGGER:-PT5M
END:VALARM
END:VEVENT
END:VCALENDAR
