BEGIN:VCALENDAR
VERSION:2.0
PRODID:-//HasGeek//NONSGML Funnel//EN
DESCRIPTION:A deep dive session
X-WR-CALDESC:A deep dive session
NAME:How IFSC banking codes work
X-WR-CALNAME:How IFSC banking codes work
REFRESH-INTERVAL;VALUE=DURATION:PT12H
SUMMARY:How IFSC banking codes work
TIMEZONE-ID:Asia/Kolkata
X-PUBLISHED-TTL:PT12H
X-WR-TIMEZONE:Asia/Kolkata
BEGIN:VEVENT
SUMMARY:Things nobody ever tells you about IFSC
DTSTART:20200516T122000Z
DTEND:20200516T133000Z
DTSTAMP:20260421T032832Z
UID:session/X4k7SRfN8WBRnoyHNWTkrd@hasgeek.com
SEQUENCE:2
CREATED:20200511T175550Z
DESCRIPTION:Maintainer of http://ifsc.razorpay.com talks about the opensou
 rce project https://github.com/razorpay/ifsc and organizing financial syst
 ems opendata.\n\n### Speaker bio\n\nNemo is a developer at Razorpay\, wher
 e he gets to interact with various organizations in the FinTech industry o
 n a daily basis. He’s the resident security geek and maintainer of http:
 //ifsc.razorpay.com and the opensource project https://github.com/razorpay
 /ifsc\n
LAST-MODIFIED:20230810T072606Z
LOCATION:Online
ORGANIZER;CN="Cashless Consumer":MAILTO:no-reply@hasgeek.com
BEGIN:VALARM
ACTION:display
DESCRIPTION:Things nobody ever tells you about IFSC in 5 minutes
TRIGGER:-PT5M
END:VALARM
END:VEVENT
END:VCALENDAR
