BEGIN:VCALENDAR
VERSION:2.0
PRODID:-//HasGeek//NONSGML Funnel//EN
DESCRIPTION:Tracking the digital lending space in India
X-WR-CALDESC:Tracking the digital lending space in India
NAME:DigitalLending WatchTower - Citizen report on BFIL Consent Scam
X-WR-CALNAME:DigitalLending WatchTower - Citizen report on BFIL Consent Sc
 am
REFRESH-INTERVAL;VALUE=DURATION:PT12H
SUMMARY:DigitalLending WatchTower - Citizen report on BFIL Consent Scam
TIMEZONE-ID:Asia/Kolkata
X-PUBLISHED-TTL:PT12H
X-WR-TIMEZONE:Asia/Kolkata
BEGIN:VEVENT
SUMMARY:Digital Lending Watch Tower
DTSTART:20220115T110000Z
DTEND:20220115T111500Z
DTSTAMP:20260421T032821Z
UID:session/XyTnBTqcwxRto34yGDL566@hasgeek.com
SEQUENCE:1
CREATED:20220110T101425Z
DESCRIPTION:Context Setting
LAST-MODIFIED:20230108T103046Z
LOCATION:Online
ORGANIZER;CN="Cashless Consumer":MAILTO:no-reply@hasgeek.com
BEGIN:VALARM
ACTION:display
DESCRIPTION:Digital Lending Watch Tower in 5 minutes
TRIGGER:-PT5M
END:VALARM
END:VEVENT
BEGIN:VEVENT
SUMMARY:Panel Discussion - Consumer Protection in Digital Lending
DTSTART:20220115T111500Z
DTEND:20220115T121500Z
DTSTAMP:20260421T032821Z
UID:session/kKk5y224DFvLnsS92YA5c@hasgeek.com
SEQUENCE:6
CREATED:20220110T101452Z
DESCRIPTION:## Consumer Protection in Digital Lending\n\n\n## Panelists\n\
 n* Arti Singh\, Fintech journalist\n* Beni Chugh\, Dvara Research\n* Prasa
 nto K Roy\,  TechPolicy Professional\n* Ravi Sethia\, Udhaar\n\nModerated 
 by : Nadika Nadja
LAST-MODIFIED:20230810T072606Z
LOCATION:Online
ORGANIZER;CN="Cashless Consumer":MAILTO:no-reply@hasgeek.com
BEGIN:VALARM
ACTION:display
DESCRIPTION:Panel Discussion - Consumer Protection in Digital Lending in 5
  minutes
TRIGGER:-PT5M
END:VALARM
END:VEVENT
BEGIN:VEVENT
SUMMARY:Q & A / Discussion
DTSTART:20220115T121500Z
DTEND:20220115T123000Z
DTSTAMP:20260421T032821Z
UID:session/DRc1Lcj5VggP5yPzvsVBUX@hasgeek.com
SEQUENCE:0
CREATED:20220110T101503Z
LAST-MODIFIED:20220110T101503Z
LOCATION:Online
ORGANIZER;CN="Cashless Consumer":MAILTO:no-reply@hasgeek.com
BEGIN:VALARM
ACTION:display
DESCRIPTION:Q & A / Discussion in 5 minutes
TRIGGER:-PT5M
END:VALARM
END:VEVENT
BEGIN:VEVENT
SUMMARY:Citizens' Report on BFIL Consent Scam
DTSTART:20220212T110000Z
DTEND:20220212T120000Z
DTSTAMP:20260421T032821Z
UID:session/PpSX2fYrRFvMKW62VFtnGC@hasgeek.com
SEQUENCE:6
CREATED:20220131T051047Z
DESCRIPTION:# Citizens' Report on BFIL Consent Scam\n\n1. Sharing of draft
  report\n2. Key findings\n3. Discussion on Consent in Digital Lending\n\n#
 # BFIL Consent Scam\n\nAnalyze on the [BFIL (Bharat Financial Inclusion Li
 mited)](https://www.bfil.co.in/) Microfinance agent application [Sampark](
 https://apkcombo.com/bfil-sampark/com.bfil.memberstatus/) to investigate i
 nto the whistleblower claims on consent fraud / evergreening of loans by s
 anctioning loans without user consent.\n\n### News\n- [Whistleblowers rais
 e loan evergreening issue at IndusInd arm](https://economictimes.indiatime
 s.com/industry/banking/finance/banking/whistleblowers-raise-loan-evergreen
 ing-issue-at-indusind-arm/articleshow/87531018.cms) - Nov 5\, 2021 - Sugat
 a Ghosh\, The Economic Times\n- [Clarification on news article](https://ww
 w.indusind.com/iblogs/pressrelease/clarification-on-news-article/) - Nov 6
 \, 2021 - IndusInd Bank.\n- [IndusInd Bank Imbroglio: Evergreening or Just
  Plain Old Incompetence?](https://thewire.in/banking/indusind-bank-imbrogl
 io-evergreening-or-just-plain-old-incompetence) - Nov 11\, 2021 - Hemindra
  Hazari\, The Wire\n- [IndusInd Bank appoints Deloitte to review whistlebl
 ower allegations at arm Bharat Financial](https://cfo.economictimes.indiat
 imes.com/news/indusind-bank-appoints-deloitte-to-review-whistleblower-alle
 gations-at-arm-bharat-financial/88074380) - Dec 3\, 2021 - Mannu Arora\,Th
 e Economic Times\n- [External Review of MFI Business Expected in Mid Feb](
 https://www.thehindubusinessline.com/money-and-banking/indusind-bank-q3-st
 andalone-net-profit-rises-36-per-cent-yoy/article64944800.ece) - Jan 29\,2
 022 - The Hindu BusinessLine\n\n\n
LAST-MODIFIED:20230810T072606Z
LOCATION:Online
ORGANIZER;CN="Cashless Consumer":MAILTO:no-reply@hasgeek.com
URL:https://hasgeek.com/cashlessconsumer/digital-lending-watchtower/schedu
 le/citizens-report-on-bfil-consent-scam-PpSX2fYrRFvMKW62VFtnGC
BEGIN:VALARM
ACTION:display
DESCRIPTION:Citizens' Report on BFIL Consent Scam in 5 minutes
TRIGGER:-PT5M
END:VALARM
END:VEVENT
END:VCALENDAR
