BEGIN:VCALENDAR
VERSION:2.0
PRODID:-//HasGeek//NONSGML Funnel//EN
DESCRIPTION:Overview of earliest payments tech Industry - ATMs - and econo
 mics of cash
X-WR-CALDESC:Overview of earliest payments tech Industry - ATMs - and econ
 omics of cash
NAME:ATMs and Cashonomics
X-WR-CALNAME:ATMs and Cashonomics
REFRESH-INTERVAL;VALUE=DURATION:PT12H
SUMMARY:ATMs and Cashonomics
TIMEZONE-ID:Asia/Kolkata
X-PUBLISHED-TTL:PT12H
X-WR-TIMEZONE:Asia/Kolkata
BEGIN:VEVENT
SUMMARY:ATMs in India - 101
DTSTART:20200627T133000Z
DTEND:20200627T135500Z
DTSTAMP:20260421T065317Z
UID:session/FsKxDmdf69dZpmMRyrnZme@hasgeek.com
SEQUENCE:1
CREATED:20200622T113909Z
DESCRIPTION:A brief introduction to ATM Tech\, History of ATM Networks in 
 India\, Regulatory landscape.\n
LAST-MODIFIED:20230108T103046Z
LOCATION:Online
ORGANIZER;CN="Cashless Consumer":MAILTO:no-reply@hasgeek.com
BEGIN:VALARM
ACTION:display
DESCRIPTION:ATMs in India - 101 in 5 minutes
TRIGGER:-PT5M
END:VALARM
END:VEVENT
BEGIN:VEVENT
SUMMARY:Cost of Cash - ATM Pricing
DTSTART:20200627T135500Z
DTEND:20200627T141500Z
DTSTAMP:20260421T065317Z
UID:session/EjhZo9cYhWfXnqFeJugbCx@hasgeek.com
SEQUENCE:1
CREATED:20200622T114101Z
DESCRIPTION:The session looks deep into ATM pricing in India\, 2008 fair p
 ricing of charges\, 2019 ATM Interchange committee report and cost of cash
 .\n
LAST-MODIFIED:20230108T103046Z
LOCATION:Online
ORGANIZER;CN="Cashless Consumer":MAILTO:no-reply@hasgeek.com
BEGIN:VALARM
ACTION:display
DESCRIPTION:Cost of Cash - ATM Pricing in 5 minutes
TRIGGER:-PT5M
END:VALARM
END:VEVENT
BEGIN:VEVENT
SUMMARY:Discusion / Q & A
DTSTART:20200627T141500Z
DTEND:20200627T143000Z
DTSTAMP:20260421T065317Z
UID:session/JnRRAwwoLkfF1NbXbtazVc@hasgeek.com
SEQUENCE:0
CREATED:20200622T114128Z
DESCRIPTION:\n
LAST-MODIFIED:20200622T114128Z
LOCATION:Online
ORGANIZER;CN="Cashless Consumer":MAILTO:no-reply@hasgeek.com
BEGIN:VALARM
ACTION:display
DESCRIPTION:Discusion / Q & A in 5 minutes
TRIGGER:-PT5M
END:VALARM
END:VEVENT
END:VCALENDAR
