BEGIN:VCALENDAR
VERSION:2.0
PRODID:-//HasGeek//NONSGML Funnel//EN
DESCRIPTION:Mapping Workshop
X-WR-CALDESC:Mapping Workshop
NAME:Cartonama Workshop
X-WR-CALNAME:Cartonama Workshop
REFRESH-INTERVAL;VALUE=DURATION:PT12H
SUMMARY:Cartonama Workshop
TIMEZONE-ID:Asia/Kolkata
X-PUBLISHED-TTL:PT12H
X-WR-TIMEZONE:Asia/Kolkata
BEGIN:VEVENT
SUMMARY:Introduction to OpenStreetmap
DTSTART:20120302T033000Z
DTEND:20120302T040000Z
DTSTAMP:20260421T091350Z
UID:session/2APhkjxKAxdYV929EepBAp@hasgeek.com
SEQUENCE:2
CATEGORIES:Creating Geo Data,Intermediate,Lecture
CREATED:20190706T034935Z
DESCRIPTION:Came away with a solid base understanding of what OpenStreetMa
 p is all about ... the motivations and the approach.\n\n### Speaker bio\n\
 nMikel Maron\n
GEO:12.9646641;77.6375652408445
LAST-MODIFIED:20230810T072606Z
LOCATION:Room - Centre for Internet and Society (CIS)\, Bangalore\nIN
ORGANIZER;CN=Cartonama:MAILTO:no-reply@hasgeek.com
URL:https://hasgeek.com/cartonama/2012-workshop/schedule/introduction-to-o
 penstreetmap-2APhkjxKAxdYV929EepBAp
BEGIN:VALARM
ACTION:display
DESCRIPTION:Introduction to OpenStreetmap in Room in 5 minutes
TRIGGER:-PT5M
END:VALARM
END:VEVENT
BEGIN:VEVENT
SUMMARY:GPS Surveying for OSM
DTSTART:20120302T040000Z
DTEND:20120302T050000Z
DTSTAMP:20260421T091350Z
UID:session/2xU2nwbVAdeW9E2UjUxi9V@hasgeek.com
SEQUENCE:2
CATEGORIES:Creating Geo Data,Intermediate,Workshop
CREATED:20190706T034952Z
DESCRIPTION:Understand how to use a GPS and collect data for OSM\n\n### Sp
 eaker bio\n\nMikel Maron\n
GEO:12.9646641;77.6375652408445
LAST-MODIFIED:20230810T072606Z
LOCATION:Room - Centre for Internet and Society (CIS)\, Bangalore\nIN
ORGANIZER;CN=Cartonama:MAILTO:no-reply@hasgeek.com
URL:https://hasgeek.com/cartonama/2012-workshop/schedule/gps-surveying-for
 -osm-2xU2nwbVAdeW9E2UjUxi9V
BEGIN:VALARM
ACTION:display
DESCRIPTION:GPS Surveying for OSM in Room in 5 minutes
TRIGGER:-PT5M
END:VALARM
END:VEVENT
BEGIN:VEVENT
SUMMARY:Downloading from GPS
DTSTART:20120302T051500Z
DTEND:20120302T053000Z
DTSTAMP:20260421T091350Z
UID:session/Xc7SG94pynJWQSPiRbG2vV@hasgeek.com
SEQUENCE:2
CATEGORIES:Creating Geo Data,Intermediate,Workshop
CREATED:20190706T035015Z
DESCRIPTION:Use of GPSBabel to download GPS data\n\n### Speaker bio\n\nMik
 el Maron\n
GEO:12.9646641;77.6375652408445
LAST-MODIFIED:20230810T072606Z
LOCATION:Room - Centre for Internet and Society (CIS)\, Bangalore\nIN
ORGANIZER;CN=Cartonama:MAILTO:no-reply@hasgeek.com
URL:https://hasgeek.com/cartonama/2012-workshop/schedule/downloading-from-
 gps-Xc7SG94pynJWQSPiRbG2vV
BEGIN:VALARM
ACTION:display
DESCRIPTION:Downloading from GPS in Room in 5 minutes
TRIGGER:-PT5M
END:VALARM
END:VEVENT
BEGIN:VEVENT
SUMMARY:Editing Data in OSM
DTSTART:20120302T053500Z
DTEND:20120302T061500Z
DTSTAMP:20260421T091350Z
UID:session/LCGfkQRYvQX3VMMtUZRvhv@hasgeek.com
SEQUENCE:2
CATEGORIES:Creating Geo Data,Intermediate,Workshop
CREATED:20190706T035035Z
DESCRIPTION:Facility with JOSM and Potlatch editors.\n\n### Speaker bio\n\
 nMikel Maron\n
GEO:12.9646641;77.6375652408445
LAST-MODIFIED:20230810T072606Z
LOCATION:Room - Centre for Internet and Society (CIS)\, Bangalore\nIN
ORGANIZER;CN=Cartonama:MAILTO:no-reply@hasgeek.com
URL:https://hasgeek.com/cartonama/2012-workshop/schedule/editing-data-in-o
 sm-LCGfkQRYvQX3VMMtUZRvhv
BEGIN:VALARM
ACTION:display
DESCRIPTION:Editing Data in OSM in Room in 5 minutes
TRIGGER:-PT5M
END:VALARM
END:VEVENT
BEGIN:VEVENT
SUMMARY:Tagging and Map Features
DTSTART:20120302T062000Z
DTEND:20120302T070000Z
DTSTAMP:20260421T091350Z
UID:session/6i7cEuHaUx9cKV6cJbe2X9@hasgeek.com
SEQUENCE:2
CATEGORIES:Creating Geo Data,Intermediate,Tutorial
CREATED:20190706T035050Z
DESCRIPTION:Understand Tagging\, Map Features\, Editing Presets in JOSM an
 d Potlatch\n\n### Speaker bio\n\nMikel Maron and Schuyler Erle\n
GEO:12.9646641;77.6375652408445
LAST-MODIFIED:20230810T072606Z
LOCATION:Room - Centre for Internet and Society (CIS)\, Bangalore\nIN
ORGANIZER;CN=Cartonama:MAILTO:no-reply@hasgeek.com
URL:https://hasgeek.com/cartonama/2012-workshop/schedule/tagging-and-map-f
 eatures-6i7cEuHaUx9cKV6cJbe2X9
BEGIN:VALARM
ACTION:display
DESCRIPTION:Tagging and Map Features in Room in 5 minutes
TRIGGER:-PT5M
END:VALARM
END:VEVENT
BEGIN:VEVENT
SUMMARY:Geo File Formats
DTSTART:20120302T082000Z
DTEND:20120302T090000Z
DTSTAMP:20260421T091350Z
UID:session/GEB8b1JijAmFDoG9AjAr5h@hasgeek.com
SEQUENCE:2
CATEGORIES:Working with Geo Data,Intermediate,Lecture
CREATED:20190706T035120Z
DESCRIPTION:Understand the most common ways GeoData is shared: Shapefile\,
  CSV\, KML\, GeoRSS\, GeoJSON\n\n### Speaker bio\n\nMikel Maron and Schuyl
 er Erle\n
GEO:12.9646641;77.6375652408445
LAST-MODIFIED:20230810T072606Z
LOCATION:Room - Centre for Internet and Society (CIS)\, Bangalore\nIN
ORGANIZER;CN=Cartonama:MAILTO:no-reply@hasgeek.com
URL:https://hasgeek.com/cartonama/2012-workshop/schedule/geo-file-formats-
 GEB8b1JijAmFDoG9AjAr5h
BEGIN:VALARM
ACTION:display
DESCRIPTION:Geo File Formats in Room in 5 minutes
TRIGGER:-PT5M
END:VALARM
END:VEVENT
BEGIN:VEVENT
SUMMARY:Geo Enabled Databases
DTSTART:20120302T090000Z
DTEND:20120302T095500Z
DTSTAMP:20260421T091350Z
UID:session/N2MbrnKCiZ45SEK7nEZe2m@hasgeek.com
SEQUENCE:2
CATEGORIES:Working with Geo Data,Intermediate,Lecture
CREATED:20190706T035139Z
DESCRIPTION:Understand PostGIS basics and MySQL spatial extensions\n\n### 
 Speaker bio\n\nMikel Maron and Schuyler Erle\n
GEO:12.9646641;77.6375652408445
LAST-MODIFIED:20230810T072606Z
LOCATION:Room - Centre for Internet and Society (CIS)\, Bangalore\nIN
ORGANIZER;CN=Cartonama:MAILTO:no-reply@hasgeek.com
URL:https://hasgeek.com/cartonama/2012-workshop/schedule/geo-enabled-datab
 ases-N2MbrnKCiZ45SEK7nEZe2m
BEGIN:VALARM
ACTION:display
DESCRIPTION:Geo Enabled Databases in Room in 5 minutes
TRIGGER:-PT5M
END:VALARM
END:VEVENT
BEGIN:VEVENT
SUMMARY:Data Swiss Army Knives
DTSTART:20120302T100500Z
DTEND:20120302T103000Z
DTSTAMP:20260421T091350Z
UID:session/3uMHQv25tQYFixrmiiPPft@hasgeek.com
SEQUENCE:2
CATEGORIES:Working with Geo Data,Intermediate,Lecture
CREATED:20190706T035153Z
DESCRIPTION:Convert and process geodata w/ OGR\, GeoCommons\n\n### Speaker
  bio\n\nMikel Maron and Schuyler Erle\n
GEO:12.9646641;77.6375652408445
LAST-MODIFIED:20230810T072606Z
LOCATION:Room - Centre for Internet and Society (CIS)\, Bangalore\nIN
ORGANIZER;CN=Cartonama:MAILTO:no-reply@hasgeek.com
URL:https://hasgeek.com/cartonama/2012-workshop/schedule/data-swiss-army-k
 nives-3uMHQv25tQYFixrmiiPPft
BEGIN:VALARM
ACTION:display
DESCRIPTION:Data Swiss Army Knives in Room in 5 minutes
TRIGGER:-PT5M
END:VALARM
END:VEVENT
BEGIN:VEVENT
SUMMARY:Processing OSM Data
DTSTART:20120302T103000Z
DTEND:20120302T113000Z
DTSTAMP:20260421T091350Z
UID:session/6bstCHoRWZLg9ymNqpUgJU@hasgeek.com
SEQUENCE:2
CATEGORIES:Working with Geo Data,Intermediate,Lecture
CREATED:20190706T035205Z
DESCRIPTION:Processing OSM data (osmosis\, osmlib. osmium\, imposm)\n\n###
  Speaker bio\n\nMikel Maron and Schuyler Erle\n
GEO:12.9646641;77.6375652408445
LAST-MODIFIED:20230810T072606Z
LOCATION:Room - Centre for Internet and Society (CIS)\, Bangalore\nIN
ORGANIZER;CN=Cartonama:MAILTO:no-reply@hasgeek.com
URL:https://hasgeek.com/cartonama/2012-workshop/schedule/processing-osm-da
 ta-6bstCHoRWZLg9ymNqpUgJU
BEGIN:VALARM
ACTION:display
DESCRIPTION:Processing OSM Data in Room in 5 minutes
TRIGGER:-PT5M
END:VALARM
END:VEVENT
BEGIN:VEVENT
SUMMARY:Tiles
DTSTART:20120303T033000Z
DTEND:20120303T040000Z
DTSTAMP:20260421T091350Z
UID:session/EScWu12RWn3fELMLvnK584@hasgeek.com
SEQUENCE:2
CATEGORIES:Visualizing Geo Data,Intermediate,Lecture
CREATED:20190706T035221Z
DESCRIPTION:What are Map Tiles?\n\n### Speaker bio\n\nMikel Maron and Schu
 yler Erle\n
GEO:12.9646641;77.6375652408445
LAST-MODIFIED:20230810T072606Z
LOCATION:Room - Centre for Internet and Society (CIS)\, Bangalore\nIN
ORGANIZER;CN=Cartonama:MAILTO:no-reply@hasgeek.com
URL:https://hasgeek.com/cartonama/2012-workshop/schedule/tiles-EScWu12RWn3
 fELMLvnK584
BEGIN:VALARM
ACTION:display
DESCRIPTION:Tiles in Room in 5 minutes
TRIGGER:-PT5M
END:VALARM
END:VEVENT
BEGIN:VEVENT
SUMMARY:TileMill
DTSTART:20120303T040000Z
DTEND:20120303T050000Z
DTSTAMP:20260421T091350Z
UID:session/PKQmGXcqRM66aX2pni44aw@hasgeek.com
SEQUENCE:2
CATEGORIES:Visualizing Geo Data,Intermediate,Workshop
CREATED:20190706T035232Z
DESCRIPTION:Creating Tiles w/ TileMill\n\n### Speaker bio\n\nMikel Maron a
 nd Schuyler Erle\n
GEO:12.9646641;77.6375652408445
LAST-MODIFIED:20230810T072606Z
LOCATION:Room - Centre for Internet and Society (CIS)\, Bangalore\nIN
ORGANIZER;CN=Cartonama:MAILTO:no-reply@hasgeek.com
URL:https://hasgeek.com/cartonama/2012-workshop/schedule/tilemill-PKQmGXcq
 RM66aX2pni44aw
BEGIN:VALARM
ACTION:display
DESCRIPTION:TileMill in Room in 5 minutes
TRIGGER:-PT5M
END:VALARM
END:VEVENT
BEGIN:VEVENT
SUMMARY:Serving Tiles
DTSTART:20120303T054500Z
DTEND:20120303T064500Z
DTSTAMP:20260421T091350Z
UID:session/MSrKRKMwPMxi18J9HVudHA@hasgeek.com
SEQUENCE:2
CATEGORIES:Building Apps with Geo Data,Intermediate,Lecture
CREATED:20190706T035247Z
DESCRIPTION:Ways to serve tiles ... TileCache (for imagery)\, TileStash\, 
 MapBox\, mod_tile\, etc\n\n### Speaker bio\n\nMikel Maron and Schuyler Erl
 e\n
GEO:12.9646641;77.6375652408445
LAST-MODIFIED:20230810T072606Z
LOCATION:Room - Centre for Internet and Society (CIS)\, Bangalore\nIN
ORGANIZER;CN=Cartonama:MAILTO:no-reply@hasgeek.com
URL:https://hasgeek.com/cartonama/2012-workshop/schedule/serving-tiles-MSr
 KRKMwPMxi18J9HVudHA
BEGIN:VALARM
ACTION:display
DESCRIPTION:Serving Tiles in Room in 5 minutes
TRIGGER:-PT5M
END:VALARM
END:VEVENT
BEGIN:VEVENT
SUMMARY:Javascript Mapping APIs
DTSTART:20120303T080000Z
DTEND:20120303T090000Z
DTSTAMP:20260421T091350Z
UID:session/iFqc6bZi97QFVLZFySdov@hasgeek.com
SEQUENCE:2
CATEGORIES:Building Apps with Geo Data,Intermediate,Lecture
CREATED:20190706T035313Z
DESCRIPTION:survey Javascript Mapping APIs (OpenLayers\, ModestMaps\, GMap
 s API\, Leaflet\, Mapstraction)\n\n### Speaker bio\n\nMikel Maron and Schu
 yler Erle\n
GEO:12.9646641;77.6375652408445
LAST-MODIFIED:20230810T072606Z
LOCATION:Room - Centre for Internet and Society (CIS)\, Bangalore\nIN
ORGANIZER;CN=Cartonama:MAILTO:no-reply@hasgeek.com
URL:https://hasgeek.com/cartonama/2012-workshop/schedule/javascript-mappin
 g-apis-iFqc6bZi97QFVLZFySdov
BEGIN:VALARM
ACTION:display
DESCRIPTION:Javascript Mapping APIs in Room in 5 minutes
TRIGGER:-PT5M
END:VALARM
END:VEVENT
BEGIN:VEVENT
SUMMARY:Geocoding and Location Queries
DTSTART:20120303T090000Z
DTEND:20120303T100000Z
DTSTAMP:20260421T091350Z
UID:session/2QXJEW1kmr6hD5kaRZV6uB@hasgeek.com
SEQUENCE:2
CATEGORIES:Building Apps with Geo Data,Intermediate,Lecture
CREATED:20190706T035333Z
DESCRIPTION:Geocoding and Location Queries\n\n### Speaker bio\n\nMikel Mar
 on and Schuyler Erle\n
GEO:12.9646641;77.6375652408445
LAST-MODIFIED:20230810T072606Z
LOCATION:Room - Centre for Internet and Society (CIS)\, Bangalore\nIN
ORGANIZER;CN=Cartonama:MAILTO:no-reply@hasgeek.com
URL:https://hasgeek.com/cartonama/2012-workshop/schedule/geocoding-and-loc
 ation-queries-2QXJEW1kmr6hD5kaRZV6uB
BEGIN:VALARM
ACTION:display
DESCRIPTION:Geocoding and Location Queries in Room in 5 minutes
TRIGGER:-PT5M
END:VALARM
END:VEVENT
BEGIN:VEVENT
SUMMARY:Routing (Directions) fundamentals
DTSTART:20120303T100000Z
DTEND:20120303T103000Z
DTSTAMP:20260421T091350Z
UID:session/Ln3gDVYjPacgjN6kDTb4KH@hasgeek.com
SEQUENCE:2
CATEGORIES:Working with Geo Data,Intermediate,Lecture
CREATED:20190706T035348Z
DESCRIPTION:This session should cover how routing is typically done in map
  services.  \n\nA suggested flow\n\n* Introduction to popular routing algo
 rithms\n* What kind of data is required to build a routing solution\, say\
 , given OSM map data\n* What are various techniques employed to improve ro
 uting usefulness (e.g. landmark based routing\, tuning variables)\n* A qui
 ck summary of routing algos/libraries for OSM\n\n### Speaker bio\n\nI'm pr
 oposing this\, i can't talk about this :-(\n
GEO:12.9646641;77.6375652408445
LAST-MODIFIED:20230810T072606Z
LOCATION:Room - Centre for Internet and Society (CIS)\, Bangalore\nIN
ORGANIZER;CN=Cartonama:MAILTO:no-reply@hasgeek.com
URL:https://hasgeek.com/cartonama/2012-workshop/schedule/routing-direction
 s-fundamentals-Ln3gDVYjPacgjN6kDTb4KH
BEGIN:VALARM
ACTION:display
DESCRIPTION:Routing (Directions) fundamentals in Room in 5 minutes
TRIGGER:-PT5M
END:VALARM
END:VEVENT
BEGIN:VEVENT
SUMMARY:Putting it all Together
DTSTART:20120303T104500Z
DTEND:20120303T114500Z
DTSTAMP:20260421T091350Z
UID:session/FsHTZQH5miEBNVK9t1nfz7@hasgeek.com
SEQUENCE:2
CATEGORIES:Building Apps with Geo Data,Advanced,Workshop
CREATED:20190706T035401Z
DESCRIPTION:Create an app using\, tiles and search\, generated from the co
 llected data.\n\n### Speaker bio\n\nMikel Maron and Schuyler Erle\n
GEO:12.9646641;77.6375652408445
LAST-MODIFIED:20230810T072606Z
LOCATION:Room - Centre for Internet and Society (CIS)\, Bangalore\nIN
ORGANIZER;CN=Cartonama:MAILTO:no-reply@hasgeek.com
URL:https://hasgeek.com/cartonama/2012-workshop/schedule/putting-it-all-to
 gether-FsHTZQH5miEBNVK9t1nfz7
BEGIN:VALARM
ACTION:display
DESCRIPTION:Putting it all Together in Room in 5 minutes
TRIGGER:-PT5M
END:VALARM
END:VEVENT
END:VCALENDAR
