BEGIN:VCALENDAR
VERSION:2.0
PRODID:-//HasGeek//NONSGML Funnel//EN
DESCRIPTION:SF and SFF genre discussions
X-WR-CALDESC:SF and SFF genre discussions
NAME:Sci-Fi\, Spies & Democracy: A Chat with Malka Older
X-WR-CALNAME:Sci-Fi\, Spies & Democracy: A Chat with Malka Older
REFRESH-INTERVAL;VALUE=DURATION:PT12H
SUMMARY:Sci-Fi\, Spies & Democracy: A Chat with Malka Older
TIMEZONE-ID:Asia/Kolkata
X-PUBLISHED-TTL:PT12H
X-WR-TIMEZONE:Asia/Kolkata
BEGIN:VEVENT
SUMMARY:Malka Older on sci-fi\, spies and democracy
DTSTART:20210129T140000Z
DTEND:20210129T150000Z
DTSTAMP:20260419T170910Z
UID:session/Royp7KtEvABaP7BTzCxxM5@hasgeek.com
SEQUENCE:0
CREATED:20210114T070330Z
DESCRIPTION:\n
LAST-MODIFIED:20210130T021817Z
LOCATION:Online
ORGANIZER;CN="Book Club ":MAILTO:no-reply@hasgeek.com
BEGIN:VALARM
ACTION:display
DESCRIPTION:Malka Older on sci-fi\, spies and democracy in 5 minutes
TRIGGER:-PT5M
END:VALARM
END:VEVENT
END:VCALENDAR
