BEGIN:VCALENDAR
VERSION:2.0
PRODID:-//HasGeek//NONSGML Funnel//EN
DESCRIPTION:SF and SFF genre discussions
X-WR-CALDESC:SF and SFF genre discussions
NAME:Enter the Machinehood - reading and discussion of Machinehood by S B 
 Divya
X-WR-CALNAME:Enter the Machinehood - reading and discussion of Machinehood
  by S B Divya
REFRESH-INTERVAL;VALUE=DURATION:PT12H
SUMMARY:Enter the Machinehood - reading and discussion of Machinehood by S
  B Divya
TIMEZONE-ID:Asia/Kolkata
X-PUBLISHED-TTL:PT12H
X-WR-TIMEZONE:Asia/Kolkata
BEGIN:VEVENT
SUMMARY:Enter The Machinehood: A Reading and Discussion of Machinehood by 
 S B Divya
DTSTART:20210730T140000Z
DTEND:20210730T150500Z
DTSTAMP:20260421T210450Z
UID:session/BqLt4kQiWsotvruTQK496L@hasgeek.com
SEQUENCE:0
CREATED:20210723T000328Z
LAST-MODIFIED:20210723T000410Z
LOCATION:Online
ORGANIZER;CN="Book Club ":MAILTO:no-reply@hasgeek.com
BEGIN:VALARM
ACTION:display
DESCRIPTION:Enter The Machinehood: A Reading and Discussion of Machinehood
  by S B Divya in 5 minutes
TRIGGER:-PT5M
END:VALARM
END:VEVENT
END:VCALENDAR
