BEGIN:VCALENDAR
VERSION:2.0
PRODID:-//HasGeek//NONSGML Funnel//EN
DESCRIPTION:Live discussion with author Massimo Airoldi
X-WR-CALDESC:Live discussion with author Massimo Airoldi
NAME:Machine Habitus
X-WR-CALNAME:Machine Habitus
REFRESH-INTERVAL;VALUE=DURATION:PT12H
SUMMARY:Machine Habitus
TIMEZONE-ID:Asia/Kolkata
X-PUBLISHED-TTL:PT12H
X-WR-TIMEZONE:Asia/Kolkata
BEGIN:VEVENT
SUMMARY:Machine Habitus - Live discussion with author Massimo Airoldi
DTSTART:20220727T120000Z
DTEND:20220727T130000Z
DTSTAMP:20260419T170541Z
UID:session/AJFPpC8rdNa2Hb3orCwDAM@hasgeek.com
SEQUENCE:2
CREATED:20220714T072847Z
LAST-MODIFIED:20220805T081157Z
LOCATION:Online
ORGANIZER;CN="Book Club ":MAILTO:no-reply@hasgeek.com
BEGIN:VALARM
ACTION:display
DESCRIPTION:Machine Habitus - Live discussion with author Massimo Airoldi 
 in 5 minutes
TRIGGER:-PT5M
END:VALARM
END:VEVENT
END:VCALENDAR
