BEGIN:VCALENDAR
VERSION:2.0
PRODID:-//HasGeek//NONSGML Funnel//EN
DESCRIPTION:SF and SFF genre discussions
X-WR-CALDESC:SF and SFF genre discussions
NAME:Staying ahead of the curve: talking analog/virtual and other simulati
 ons of your future with Lavanya Lakshminarayan
X-WR-CALNAME:Staying ahead of the curve: talking analog/virtual and other 
 simulations of your future with Lavanya Lakshminarayan
REFRESH-INTERVAL;VALUE=DURATION:PT12H
SUMMARY:Staying ahead of the curve: talking analog/virtual and other simul
 ations of your future with Lavanya Lakshminarayan
TIMEZONE-ID:Asia/Kolkata
X-PUBLISHED-TTL:PT12H
X-WR-TIMEZONE:Asia/Kolkata
BEGIN:VEVENT
SUMMARY:Staying ahead of the curve: talking analog/virtual and other simul
 ations of your future with Lavanya Lakshminarayan
DTSTART:20210326T140000Z
DTEND:20210326T151500Z
DTSTAMP:20260419T170736Z
UID:session/UHorvoLBZLLvJBmfBHAiKe@hasgeek.com
SEQUENCE:0
CREATED:20210311T203144Z
LAST-MODIFIED:20210314T143500Z
LOCATION:Online
ORGANIZER;CN="Book Club ":MAILTO:no-reply@hasgeek.com
BEGIN:VALARM
ACTION:display
DESCRIPTION:Staying ahead of the curve: talking analog/virtual and other s
 imulations of your future with Lavanya Lakshminarayan in 5 minutes
TRIGGER:-PT5M
END:VALARM
END:VEVENT
END:VCALENDAR
