BEGIN:VCALENDAR
VERSION:2.0
PRODID:-//HasGeek//NONSGML Funnel//EN
DESCRIPTION:SF and SFF genre discussions
X-WR-CALDESC:SF and SFF genre discussions
NAME:Shapeshifting with Indrapramit Das - Reading and Discussion of The De
 vourers and other fictions
X-WR-CALNAME:Shapeshifting with Indrapramit Das - Reading and Discussion o
 f The Devourers and other fictions
REFRESH-INTERVAL;VALUE=DURATION:PT12H
SUMMARY:Shapeshifting with Indrapramit Das - Reading and Discussion of The
  Devourers and other fictions
TIMEZONE-ID:Asia/Kolkata
X-PUBLISHED-TTL:PT12H
X-WR-TIMEZONE:Asia/Kolkata
BEGIN:VEVENT
SUMMARY:Reading and Discussion of The Devourers and other fictions with In
 drapramit Das
DTSTART:20210430T140000Z
DTEND:20210430T151500Z
DTSTAMP:20260419T170506Z
UID:session/6we2NjNer84GHuRxQJukV6@hasgeek.com
SEQUENCE:0
CREATED:20210415T150308Z
LAST-MODIFIED:20210417T050546Z
LOCATION:Online
ORGANIZER;CN="Book Club ":MAILTO:no-reply@hasgeek.com
BEGIN:VALARM
ACTION:display
DESCRIPTION:Reading and Discussion of The Devourers and other fictions wit
 h Indrapramit Das in 5 minutes
TRIGGER:-PT5M
END:VALARM
END:VEVENT
END:VCALENDAR
