BEGIN:VCALENDAR
VERSION:2.0
PRODID:-//HasGeek//NONSGML Funnel//EN
DESCRIPTION:SF and SFF genre discussions
X-WR-CALDESC:SF and SFF genre discussions
NAME:The importance of being Analog and more with Eliot Peper
X-WR-CALNAME:The importance of being Analog and more with Eliot Peper
REFRESH-INTERVAL;VALUE=DURATION:PT12H
SUMMARY:The importance of being Analog and more with Eliot Peper
TIMEZONE-ID:Asia/Kolkata
X-PUBLISHED-TTL:PT12H
X-WR-TIMEZONE:Asia/Kolkata
BEGIN:VEVENT
SUMMARY:Reading with Eliot Peper
DTSTART:20210625T140000Z
DTEND:20210625T150000Z
DTSTAMP:20260419T184347Z
UID:session/B4Jf3Jhqz9FXtpHmaNAuHi@hasgeek.com
SEQUENCE:0
CREATED:20210608T145018Z
LAST-MODIFIED:20210625T171945Z
LOCATION:Online
ORGANIZER;CN="Book Club ":MAILTO:no-reply@hasgeek.com
BEGIN:VALARM
ACTION:display
DESCRIPTION:Reading with Eliot Peper in 5 minutes
TRIGGER:-PT5M
END:VALARM
END:VEVENT
END:VCALENDAR
