BEGIN:VCALENDAR
VERSION:2.0
PRODID:-//HasGeek//NONSGML Funnel//EN
DESCRIPTION:SF and SFF genre discussions
X-WR-CALDESC:SF and SFF genre discussions
NAME:Bengali Science Fiction - past to the present
X-WR-CALNAME:Bengali Science Fiction - past to the present
REFRESH-INTERVAL;VALUE=DURATION:PT12H
SUMMARY:Bengali Science Fiction - past to the present
TIMEZONE-ID:Asia/Kolkata
X-PUBLISHED-TTL:PT12H
X-WR-TIMEZONE:Asia/Kolkata
BEGIN:VEVENT
SUMMARY:Introduction to Book Club and today's session
DTSTART:20201030T130000Z
DTEND:20201030T130500Z
DTSTAMP:20260419T170943Z
UID:session/9v81cDpKfP9MQUqFMzjPYF@hasgeek.com
SEQUENCE:0
CREATED:20201005T070443Z
DESCRIPTION:\n
LAST-MODIFIED:20201107T061134Z
LOCATION:Online
ORGANIZER;CN="Book Club ":MAILTO:no-reply@hasgeek.com
BEGIN:VALARM
ACTION:display
DESCRIPTION:Introduction to Book Club and today's session in 5 minutes
TRIGGER:-PT5M
END:VALARM
END:VEVENT
BEGIN:VEVENT
SUMMARY:Bengali Science Fiction - past to the present
DTSTART:20201030T130500Z
DTEND:20201030T140500Z
DTSTAMP:20260419T170943Z
UID:session/9ETuDd2zDYgj2kXYEmJbHe@hasgeek.com
SEQUENCE:0
CREATED:20201005T070510Z
DESCRIPTION:\n
LAST-MODIFIED:20201107T060740Z
LOCATION:Online
ORGANIZER;CN="Book Club ":MAILTO:no-reply@hasgeek.com
BEGIN:VALARM
ACTION:display
DESCRIPTION:Bengali Science Fiction - past to the present in 5 minutes
TRIGGER:-PT5M
END:VALARM
END:VEVENT
END:VCALENDAR
