BEGIN:VCALENDAR
VERSION:2.0
PRODID:-//HasGeek//NONSGML Funnel//EN
DESCRIPTION:Call for talks & demos for monthly meet-ups
X-WR-CALDESC:Call for talks & demos for monthly meet-ups
NAME:Speak at Bengaluru Systems meet-up
X-WR-CALNAME:Speak at Bengaluru Systems meet-up
REFRESH-INTERVAL;VALUE=DURATION:PT12H
SUMMARY:Speak at Bengaluru Systems meet-up
TIMEZONE-ID:Asia/Kolkata
X-PUBLISHED-TTL:PT12H
X-WR-TIMEZONE:Asia/Kolkata
BEGIN:VEVENT
SUMMARY:Bengaluru Systems March Meetup
DTSTART:20260328T053000Z
DTEND:20260328T073000Z
DTSTAMP:20260419T152317Z
UID:session/LVi79Xpgu9P9hciKH717Gi@hasgeek.com
SEQUENCE:3
CREATED:20260322T130608Z
LAST-MODIFIED:20260322T130953Z
LOCATION:Online
ORGANIZER;CN="Bengaluru Systems Meetup":MAILTO:no-reply@hasgeek.com
BEGIN:VALARM
ACTION:display
DESCRIPTION:Bengaluru Systems March Meetup in 5 minutes
TRIGGER:-PT5M
END:VALARM
END:VEVENT
END:VCALENDAR
