BEGIN:VCALENDAR
VERSION:2.0
PRODID:-//HasGeek//NONSGML Funnel//EN
DESCRIPTION:Perpetually geeking out.
X-WR-CALDESC:Perpetually geeking out.
NAME:Bengaluru Systems Meetup #4
X-WR-CALNAME:Bengaluru Systems Meetup #4
REFRESH-INTERVAL;VALUE=DURATION:PT12H
SUMMARY:Bengaluru Systems Meetup #4
TIMEZONE-ID:Asia/Kolkata
X-PUBLISHED-TTL:PT12H
X-WR-TIMEZONE:Asia/Kolkata
BEGIN:VEVENT
SUMMARY:Bengaluru Systems Meetup #4
DTSTART:20241026T123000Z
DTEND:20241026T143000Z
DTSTAMP:20260420T015836Z
UID:session/T8GnPu6nz5EBqus9cHSC5n@hasgeek.com
SEQUENCE:1
CREATED:20241016T184240Z
LAST-MODIFIED:20241016T184247Z
LOCATION:Online
ORGANIZER;CN="Bengaluru Systems Meetup":MAILTO:no-reply@hasgeek.com
BEGIN:VALARM
ACTION:display
DESCRIPTION:Bengaluru Systems Meetup #4 in 5 minutes
TRIGGER:-PT5M
END:VALARM
END:VEVENT
END:VCALENDAR
