BEGIN:VCALENDAR
VERSION:2.0
PRODID:-//HasGeek//NONSGML Funnel//EN
DESCRIPTION:let's talk systems\, in 5-10 minute increments
X-WR-CALDESC:let's talk systems\, in 5-10 minute increments
NAME:Bengaluru Systems Meetup #9 - Lightning Talks Edition
X-WR-CALNAME:Bengaluru Systems Meetup #9 - Lightning Talks Edition
REFRESH-INTERVAL;VALUE=DURATION:PT12H
SUMMARY:Bengaluru Systems Meetup #9 - Lightning Talks Edition
TIMEZONE-ID:Asia/Kolkata
X-PUBLISHED-TTL:PT12H
X-WR-TIMEZONE:Asia/Kolkata
BEGIN:VEVENT
SUMMARY:Bengaluru Systems Meetup #9 - Lightning Talks Edition
DTSTART:20250329T053000Z
DTEND:20250329T073000Z
DTSTAMP:20260420T032144Z
UID:session/7sQRmBGrMNtufopwBWQtMr@hasgeek.com
SEQUENCE:0
CREATED:20250328T090818Z
LAST-MODIFIED:20250328T090818Z
LOCATION:Online
ORGANIZER;CN="Bengaluru Systems Meetup":MAILTO:no-reply@hasgeek.com
BEGIN:VALARM
ACTION:display
DESCRIPTION:Bengaluru Systems Meetup #9 - Lightning Talks Edition in 5 min
 utes
TRIGGER:-PT5M
END:VALARM
END:VEVENT
END:VCALENDAR
