BEGIN:VCALENDAR
VERSION:2.0
PRODID:-//HasGeek//NONSGML Funnel//EN
DESCRIPTION:Let's talk Systems!
X-WR-CALDESC:Let's talk Systems!
NAME:Bengaluru Systems Meetup #8
X-WR-CALNAME:Bengaluru Systems Meetup #8
REFRESH-INTERVAL;VALUE=DURATION:PT12H
SUMMARY:Bengaluru Systems Meetup #8
TIMEZONE-ID:Asia/Kolkata
X-PUBLISHED-TTL:PT12H
X-WR-TIMEZONE:Asia/Kolkata
BEGIN:VEVENT
SUMMARY:Bengaluru Systems Meetup #8
DTSTART:20250302T080000Z
DTEND:20250302T093000Z
DTSTAMP:20260420T031814Z
UID:session/9QphkiU8WwHHKVRK7G5Qhn@hasgeek.com
SEQUENCE:8
CREATED:20250228T142700Z
DESCRIPTION:let's talk systems!\n\nThis edition of Bengaluru Systems Meetu
 p will feature Jianyang Gao (twitter: @gaoj0017) talking about their work 
 on RabitQ (https://arxiv.org/abs/2405.12497)\, an optimised algorithm for 
 vector quantisation. The meetup will be hosted on our Discord\, at 1:30 pm
  on Sunday\, March 2nd.
LAST-MODIFIED:20250228T142700Z
LOCATION:Online - https://hasgeek.com/bengalurusystemsmeetup/8/
ORGANIZER;CN="Bengaluru Systems Meetup":MAILTO:no-reply@hasgeek.com
URL:https://hasgeek.com/bengalurusystemsmeetup/8/
BEGIN:VALARM
ACTION:display
DESCRIPTION:Bengaluru Systems Meetup #8 in 5 minutes
TRIGGER:-PT5M
END:VALARM
END:VEVENT
END:VCALENDAR
