BEGIN:VCALENDAR
VERSION:2.0
PRODID:-//HasGeek//NONSGML Funnel//EN
DESCRIPTION:Let's talk systems!
X-WR-CALDESC:Let's talk systems!
NAME:Bengaluru Systems Meetup #6
X-WR-CALNAME:Bengaluru Systems Meetup #6
REFRESH-INTERVAL;VALUE=DURATION:PT12H
SUMMARY:Bengaluru Systems Meetup #6
TIMEZONE-ID:Asia/Kolkata
X-PUBLISHED-TTL:PT12H
X-WR-TIMEZONE:Asia/Kolkata
BEGIN:VEVENT
SUMMARY:Bengaluru Systems Meetup #6
DTSTART:20241228T053000Z
DTEND:20241228T080500Z
DTSTAMP:20260420T013458Z
UID:session/Xv2vAzXV2ASSzV1eodrwDQ@hasgeek.com
SEQUENCE:2
CREATED:20241216T171829Z
DESCRIPTION:Let's talk systems!
LAST-MODIFIED:20241216T171902Z
LOCATION:TBD
ORGANIZER;CN="Bengaluru Systems Meetup":MAILTO:no-reply@hasgeek.com
BEGIN:VALARM
ACTION:display
DESCRIPTION:Bengaluru Systems Meetup #6 in 5 minutes
TRIGGER:-PT5M
END:VALARM
END:VEVENT
END:VCALENDAR
