BEGIN:VCALENDAR
VERSION:2.0
PRODID:-//HasGeek//NONSGML Funnel//EN
DESCRIPTION:let's talk systems!
X-WR-CALDESC:let's talk systems!
NAME:Bengaluru Systems Meetup #5
X-WR-CALNAME:Bengaluru Systems Meetup #5
REFRESH-INTERVAL;VALUE=DURATION:PT12H
SUMMARY:Bengaluru Systems Meetup #5
TIMEZONE-ID:Asia/Kolkata
X-PUBLISHED-TTL:PT12H
X-WR-TIMEZONE:Asia/Kolkata
BEGIN:VEVENT
SUMMARY:Bengaluru Systems Meetup #5
DTSTART:20241130T053000Z
DTEND:20241130T073000Z
DTSTAMP:20260420T050230Z
UID:session/SK7oqhz24mni6kgR7KmMNS@hasgeek.com
SEQUENCE:5
CREATED:20241125T185718Z
DESCRIPTION:let's talk systems!
LAST-MODIFIED:20241130T184611Z
LOCATION:TBD - https://hasgeek.com/bengalurusystemsmeetup/5/
ORGANIZER;CN="Bengaluru Systems Meetup":MAILTO:no-reply@hasgeek.com
URL:https://hasgeek.com/bengalurusystemsmeetup/5/
BEGIN:VALARM
ACTION:display
DESCRIPTION:Bengaluru Systems Meetup #5 in 5 minutes
TRIGGER:-PT5M
END:VALARM
END:VEVENT
END:VCALENDAR
