BEGIN:VCALENDAR
VERSION:2.0
PRODID:-//HasGeek//NONSGML Funnel//EN
DESCRIPTION:Perpetually geeking out
X-WR-CALDESC:Perpetually geeking out
NAME:Bengaluru Systems Meetup #2
X-WR-CALNAME:Bengaluru Systems Meetup #2
REFRESH-INTERVAL;VALUE=DURATION:PT12H
SUMMARY:Bengaluru Systems Meetup #2
TIMEZONE-ID:Asia/Kolkata
X-PUBLISHED-TTL:PT12H
X-WR-TIMEZONE:Asia/Kolkata
BEGIN:VEVENT
SUMMARY:Bengaluru Systems Meetup #2
DTSTART:20240824T053000Z
DTEND:20240824T080000Z
DTSTAMP:20260420T064523Z
UID:session/QVhGUpp7E7nm3whizNHYC6@hasgeek.com
SEQUENCE:9
CREATED:20240822T191111Z
DESCRIPTION:Join us for our second meetup at the Dyte office on 24th Augus
 t in Bangalore!\n\nWe have a bunch of incredible talks lined up:\n\n“Rev
 erse Engineering RGB Keyboard Backlights With Linux Kernel Drivers” by R
 ishit Bansal\n“JIT Compilers - Inside and Out” by Srijan Paul\n“The 
 Curious Case of MongoDB Cache Evictions” by Uddeshya Singh\n“How Does 
 A WebAssembly Runtime Work Anyways?” by Siddharth Tewari
LAST-MODIFIED:20240907T012218Z
LOCATION:Bangalore - https://hasgeek.com/bengalurusystemsmeetup/2/
ORGANIZER;CN="Bengaluru Systems Meetup":MAILTO:no-reply@hasgeek.com
URL:https://hasgeek.com/bengalurusystemsmeetup/2/
BEGIN:VALARM
ACTION:display
DESCRIPTION:Bengaluru Systems Meetup #2 in 5 minutes
TRIGGER:-PT5M
END:VALARM
END:VEVENT
END:VCALENDAR
