BEGIN:VCALENDAR
VERSION:2.0
PRODID:-//HasGeek//NONSGML Funnel//EN
DESCRIPTION:Let's talk systems!
X-WR-CALDESC:Let's talk systems!
NAME:Bengaluru Systems Meetup #15
X-WR-CALNAME:Bengaluru Systems Meetup #15
REFRESH-INTERVAL;VALUE=DURATION:PT12H
SUMMARY:Bengaluru Systems Meetup #15
TIMEZONE-ID:Asia/Kolkata
X-PUBLISHED-TTL:PT12H
X-WR-TIMEZONE:Asia/Kolkata
BEGIN:VEVENT
SUMMARY:Bengaluru Systems Meetup #15
DTSTART:20260228T053000Z
DTEND:20260228T073000Z
DTSTAMP:20260419T140058Z
UID:session/UV284JXeqJkivBDuSXY2vk@hasgeek.com
SEQUENCE:8
CREATED:20260214T040724Z
DESCRIPTION:Let's talk Systems!\n\nSpeak at the meet-up. Submit here: http
 s://hasgeek.com/bengalurusystemsmeetup/cfp/
LAST-MODIFIED:20260223T094403Z
LOCATION:The Terrace\, Hasura\, Bengaluru - https://hasgeek.com/bengalurus
 ystemsmeetup/15/
ORGANIZER;CN="Bengaluru Systems Meetup":MAILTO:no-reply@hasgeek.com
URL:https://hasgeek.com/bengalurusystemsmeetup/15/
BEGIN:VALARM
ACTION:display
DESCRIPTION:Bengaluru Systems Meetup #15 in 5 minutes
TRIGGER:-PT5M
END:VALARM
END:VEVENT
END:VCALENDAR
