BEGIN:VCALENDAR
VERSION:2.0
PRODID:-//HasGeek//NONSGML Funnel//EN
DESCRIPTION:Let's talk systems!
X-WR-CALDESC:Let's talk systems!
NAME:Bengaluru Systems Meetup #13
X-WR-CALNAME:Bengaluru Systems Meetup #13
REFRESH-INTERVAL;VALUE=DURATION:PT12H
SUMMARY:Bengaluru Systems Meetup #13
TIMEZONE-ID:Asia/Kolkata
X-PUBLISHED-TTL:PT12H
X-WR-TIMEZONE:Asia/Kolkata
BEGIN:VEVENT
SUMMARY:Bengaluru Systems Meetup #13
DTSTART:20251101T053000Z
DTEND:20251101T073000Z
DTSTAMP:20260420T031702Z
UID:session/Mia1s2uSt26zhLdogKE8yH@hasgeek.com
SEQUENCE:12
CREATED:20251018T125810Z
DESCRIPTION:Let's talk Systems!
LAST-MODIFIED:20260214T040455Z
LOCATION:Dashverse - https://hasgeek.com/bengalurusystemsmeetup/13/
ORGANIZER;CN="Bengaluru Systems Meetup":MAILTO:no-reply@hasgeek.com
URL:https://hasgeek.com/bengalurusystemsmeetup/13/
BEGIN:VALARM
ACTION:display
DESCRIPTION:Bengaluru Systems Meetup #13 in 5 minutes
TRIGGER:-PT5M
END:VALARM
END:VEVENT
END:VCALENDAR
