BEGIN:VCALENDAR
VERSION:2.0
PRODID:-//HasGeek//NONSGML Funnel//EN
DESCRIPTION:Let's talk Systems\, in-person!
X-WR-CALDESC:Let's talk Systems\, in-person!
NAME:Bengaluru Systems Meetup #11
X-WR-CALNAME:Bengaluru Systems Meetup #11
REFRESH-INTERVAL;VALUE=DURATION:PT12H
SUMMARY:Bengaluru Systems Meetup #11
TIMEZONE-ID:Asia/Kolkata
X-PUBLISHED-TTL:PT12H
X-WR-TIMEZONE:Asia/Kolkata
BEGIN:VEVENT
SUMMARY:Bengaluru Systems Meetup #11
DTSTART:20250830T053000Z
DTEND:20250830T073000Z
DTSTAMP:20260420T031917Z
UID:session/zZgKhgs64cjaK6dDBf5Ce@hasgeek.com
SEQUENCE:0
CREATED:20250819T054611Z
LAST-MODIFIED:20250819T054611Z
LOCATION:TBD
ORGANIZER;CN="Bengaluru Systems Meetup":MAILTO:no-reply@hasgeek.com
BEGIN:VALARM
ACTION:display
DESCRIPTION:Bengaluru Systems Meetup #11 in 5 minutes
TRIGGER:-PT5M
END:VALARM
END:VEVENT
END:VCALENDAR
