BEGIN:VCALENDAR
VERSION:2.0
PRODID:-//HasGeek//NONSGML Funnel//EN
DESCRIPTION:Let's talk Systems\, in-person for the first time in a long ti
 me!
X-WR-CALDESC:Let's talk Systems\, in-person for the first time in a long t
 ime!
NAME:Bengaluru Systems Meetup #10
X-WR-CALNAME:Bengaluru Systems Meetup #10
REFRESH-INTERVAL;VALUE=DURATION:PT12H
SUMMARY:Bengaluru Systems Meetup #10
TIMEZONE-ID:Asia/Kolkata
X-PUBLISHED-TTL:PT12H
X-WR-TIMEZONE:Asia/Kolkata
BEGIN:VEVENT
SUMMARY:Bengaluru Systems Meetup #10
DTSTART:20250802T043000Z
DTEND:20250802T073000Z
DTSTAMP:20260420T031856Z
UID:session/AehAGx4sSxB5qYWYXmtjQt@hasgeek.com
SEQUENCE:0
CREATED:20250707T170307Z
LAST-MODIFIED:20250707T170307Z
LOCATION:TBD
ORGANIZER;CN="Bengaluru Systems Meetup":MAILTO:no-reply@hasgeek.com
BEGIN:VALARM
ACTION:display
DESCRIPTION:Bengaluru Systems Meetup #10 in 5 minutes
TRIGGER:-PT5M
END:VALARM
END:VEVENT
END:VCALENDAR
