BEGIN:VCALENDAR
VERSION:2.0
PRODID:-//HasGeek//NONSGML Funnel//EN
DESCRIPTION:Let's talk systems!
X-WR-CALDESC:Let's talk systems!
NAME:Bengaluru Systems Meetup #1
X-WR-CALNAME:Bengaluru Systems Meetup #1
REFRESH-INTERVAL;VALUE=DURATION:PT12H
SUMMARY:Bengaluru Systems Meetup #1
TIMEZONE-ID:Asia/Kolkata
X-PUBLISHED-TTL:PT12H
X-WR-TIMEZONE:Asia/Kolkata
BEGIN:VEVENT
SUMMARY:Meetup #1
DTSTART:20240706T053000Z
DTEND:20240706T073000Z
DTSTAMP:20260420T031856Z
UID:session/8C4zYvhBEwGJTA4E9kLRUM@hasgeek.com
SEQUENCE:2
CREATED:20240619T143329Z
LAST-MODIFIED:20240619T143430Z
LOCATION:https://maps.app.goo.gl/jMziJxyyvoT5uyHb8?g_st=ic
ORGANIZER;CN="Bengaluru Systems Meetup":MAILTO:no-reply@hasgeek.com
BEGIN:VALARM
ACTION:display
DESCRIPTION:Meetup #1 in 5 minutes
TRIGGER:-PT5M
END:VALARM
END:VEVENT
END:VCALENDAR
