BEGIN:VCALENDAR
VERSION:2.0
PRODID:-//HasGeek//NONSGML Funnel//EN
DESCRIPTION:Ok
X-WR-CALDESC:Ok
NAME:Future project
X-WR-CALNAME:Future project
REFRESH-INTERVAL;VALUE=DURATION:PT12H
SUMMARY:Future project
TIMEZONE-ID:Asia/Tashkent
X-PUBLISHED-TTL:PT12H
X-WR-TIMEZONE:Asia/Tashkent
BEGIN:VEVENT
SUMMARY:Future project
DTSTART:20240319T112800Z
DTEND:20240320T112800Z
DTSTAMP:20260422T001537Z
UID:session/QVo1pxqBXnHGYxWZE5cnwt@hasgeek.com
SEQUENCE:3
CREATED:20240315T112908Z
DESCRIPTION:Kdnddv
LAST-MODIFIED:20240315T112927Z
LOCATION:Online - https://hasgeek.com/bbbbb/future-project/
ORGANIZER;CN=bbbbb:MAILTO:no-reply@hasgeek.com
URL:https://hasgeek.com/bbbbb/future-project/
BEGIN:VALARM
ACTION:display
DESCRIPTION:Future project in 5 minutes
TRIGGER:-PT5M
END:VALARM
END:VEVENT
END:VCALENDAR
