BEGIN:VCALENDAR
VERSION:2.0
PRODID:-//HasGeek//NONSGML Funnel//EN
DESCRIPTION:All things observability - logs\, metrics\, traces and events
X-WR-CALDESC:All things observability - logs\, metrics\, traces and events
NAME:Bangalore Observability Meetup - March 2021
X-WR-CALNAME:Bangalore Observability Meetup - March 2021
REFRESH-INTERVAL;VALUE=DURATION:PT12H
SUMMARY:Bangalore Observability Meetup - March 2021
TIMEZONE-ID:Asia/Kolkata
X-PUBLISHED-TTL:PT12H
X-WR-TIMEZONE:Asia/Kolkata
BEGIN:VEVENT
SUMMARY:Solving Metrics at scale with VictoriaMetrics
DTSTART:20210313T053000Z
DTEND:20210313T062000Z
DTSTAMP:20260421T032711Z
UID:session/PqswQGPNSsYxYa3PZDFaC5@hasgeek.com
SEQUENCE:1
CREATED:20210310T075348Z
DESCRIPTION:This talk will be about the problems with the Vanilla Promethe
 us architecture and how to solve metrics at scale using victoria metrics. 
 The speaker will touch base on all the victoria metrics components\, best 
 practices for monitoring infrastructure. \n\nTarget audience: Need to have
  some basic idea of Prometheus and it's working.
LAST-MODIFIED:20230108T103046Z
LOCATION:Online
ORGANIZER;CN="Bangalore Observability Meetup ":MAILTO:no-reply@hasgeek.com
BEGIN:VALARM
ACTION:display
DESCRIPTION:Solving Metrics at scale with VictoriaMetrics in 5 minutes
TRIGGER:-PT5M
END:VALARM
END:VEVENT
BEGIN:VEVENT
SUMMARY:Break
DTSTART:20210313T062000Z
DTEND:20210313T063000Z
DTSTAMP:20260421T032711Z
UID:session/BiqmDVG4WbX9od4qjSh66h@hasgeek.com
SEQUENCE:0
CREATED:20210310T075452Z
LAST-MODIFIED:20210310T075500Z
LOCATION:Online
ORGANIZER;CN="Bangalore Observability Meetup ":MAILTO:no-reply@hasgeek.com
BEGIN:VALARM
ACTION:display
DESCRIPTION:Break in 5 minutes
TRIGGER:-PT5M
END:VALARM
END:VEVENT
BEGIN:VEVENT
SUMMARY:Observability - Metrics\, Monitoring and Alerting
DTSTART:20210313T063000Z
DTEND:20210313T072000Z
DTSTAMP:20260421T032711Z
UID:session/4fgzfFEECh5ciNx83zSdPG@hasgeek.com
SEQUENCE:1
CREATED:20210310T081111Z
DESCRIPTION:This 101 talk will be about the various pillars of Observabili
 ty\, and why they are essential for a complex distributed system. The spea
 ker will be using some small case studies as a reference. \n\nTarget Audie
 nce: The content would be suited for beginner to moderate level practition
 ers and Observability enthusiasts.
LAST-MODIFIED:20230108T103046Z
LOCATION:Online
ORGANIZER;CN="Bangalore Observability Meetup ":MAILTO:no-reply@hasgeek.com
BEGIN:VALARM
ACTION:display
DESCRIPTION:Observability - Metrics\, Monitoring and Alerting in 5 minutes
TRIGGER:-PT5M
END:VALARM
END:VEVENT
BEGIN:VEVENT
SUMMARY:Post Meetup Banter and Catch-up
DTSTART:20210313T072000Z
DTEND:20210313T073500Z
DTSTAMP:20260421T032711Z
UID:session/EV8vFEkaCxMwicp2XB1WGq@hasgeek.com
SEQUENCE:1
CREATED:20210310T081250Z
DESCRIPTION:Here the community and possibly the speakers hang back and cha
 t for 15-20mins. Conversations pertaining to the talks or observability in
  general are appreciated.
LAST-MODIFIED:20230108T103046Z
LOCATION:Online
ORGANIZER;CN="Bangalore Observability Meetup ":MAILTO:no-reply@hasgeek.com
BEGIN:VALARM
ACTION:display
DESCRIPTION:Post Meetup Banter and Catch-up in 5 minutes
TRIGGER:-PT5M
END:VALARM
END:VEVENT
END:VCALENDAR
