BEGIN:VCALENDAR
VERSION:2.0
PRODID:-//HasGeek//NONSGML Funnel//EN
DESCRIPTION:All things observability - logs\, metrics\, traces\, events an
 d UX
X-WR-CALDESC:All things observability - logs\, metrics\, traces\, events a
 nd UX
NAME:Bangalore Observability Meetup - August 2021
X-WR-CALNAME:Bangalore Observability Meetup - August 2021
REFRESH-INTERVAL;VALUE=DURATION:PT12H
SUMMARY:Bangalore Observability Meetup - August 2021
TIMEZONE-ID:Asia/Kolkata
X-PUBLISHED-TTL:PT12H
X-WR-TIMEZONE:Asia/Kolkata
BEGIN:VEVENT
SUMMARY:Intro to Grafana Loki
DTSTART:20210814T053000Z
DTEND:20210814T062000Z
DTSTAMP:20260421T044642Z
UID:session/TRbpaECBn62mbFh5sfSLj9@hasgeek.com
SEQUENCE:1
CREATED:20210807T053149Z
DESCRIPTION:A Deep Dive session into the log aggregator project from Grafa
 na\, Loki\; by one of the project's core maintainers\, Sandeep Sukhani
LAST-MODIFIED:20230108T103046Z
LOCATION:Online
ORGANIZER;CN="Bangalore Observability Meetup ":MAILTO:no-reply@hasgeek.com
BEGIN:VALARM
ACTION:display
DESCRIPTION:Intro to Grafana Loki in 5 minutes
TRIGGER:-PT5M
END:VALARM
END:VEVENT
BEGIN:VEVENT
SUMMARY:Break and Hallway Discussions
DTSTART:20210814T062000Z
DTEND:20210814T062500Z
DTSTAMP:20260421T044642Z
UID:session/9gAgRG7beULWrmu4mkGoBR@hasgeek.com
SEQUENCE:1
CREATED:20210807T053228Z
DESCRIPTION:Short break period and banter
LAST-MODIFIED:20230108T103046Z
LOCATION:Online
ORGANIZER;CN="Bangalore Observability Meetup ":MAILTO:no-reply@hasgeek.com
BEGIN:VALARM
ACTION:display
DESCRIPTION:Break and Hallway Discussions in 5 minutes
TRIGGER:-PT5M
END:VALARM
END:VEVENT
BEGIN:VEVENT
SUMMARY:Flash Talks
DTSTART:20210814T062500Z
DTEND:20210814T070500Z
DTSTAMP:20260421T044642Z
UID:session/Sp77sA7Bzst9DTd6n5UqWH@hasgeek.com
SEQUENCE:1
CREATED:20210814T023053Z
DESCRIPTION:Flash talk session for any of the attendees to give a talk imp
 ormptu.
LAST-MODIFIED:20230108T103046Z
LOCATION:Online
ORGANIZER;CN="Bangalore Observability Meetup ":MAILTO:no-reply@hasgeek.com
BEGIN:VALARM
ACTION:display
DESCRIPTION:Flash Talks in 5 minutes
TRIGGER:-PT5M
END:VALARM
END:VEVENT
BEGIN:VEVENT
SUMMARY:Break and Banter
DTSTART:20210814T070500Z
DTEND:20210814T072000Z
DTSTAMP:20260421T044642Z
UID:session/RC9oENsvBrnP8jBCRdqxWp@hasgeek.com
SEQUENCE:0
CREATED:20210814T023139Z
LAST-MODIFIED:20210814T023142Z
LOCATION:Online
ORGANIZER;CN="Bangalore Observability Meetup ":MAILTO:no-reply@hasgeek.com
BEGIN:VALARM
ACTION:display
DESCRIPTION:Break and Banter in 5 minutes
TRIGGER:-PT5M
END:VALARM
END:VEVENT
END:VCALENDAR
