BEGIN:VCALENDAR
VERSION:2.0
PRODID:-//HasGeek//NONSGML Funnel//EN
DESCRIPTION:All things observability - logs\, metrics\, traces and events
X-WR-CALDESC:All things observability - logs\, metrics\, traces and events
NAME:Bangalore Observability Meetup - April 2021
X-WR-CALNAME:Bangalore Observability Meetup - April 2021
REFRESH-INTERVAL;VALUE=DURATION:PT12H
SUMMARY:Bangalore Observability Meetup - April 2021
TIMEZONE-ID:Asia/Kolkata
X-PUBLISHED-TTL:PT12H
X-WR-TIMEZONE:Asia/Kolkata
BEGIN:VEVENT
SUMMARY:Grafana Tempo - The Path to 1 million spans/sec
DTSTART:20210417T053000Z
DTEND:20210417T062000Z
DTSTAMP:20260421T032734Z
UID:session/LnueJCBfUHHmHgDTeeCKWc@hasgeek.com
SEQUENCE:1
CREATED:20210413T090751Z
DESCRIPTION:Annanay Agarwal from Grafana takes us through the inception of
  Grafana Tempo and the journey the FOSS tracing tool has taken so far to a
 chive an incredible 1million spans/sec benchmark.
LAST-MODIFIED:20230108T103046Z
LOCATION:Online
ORGANIZER;CN="Bangalore Observability Meetup ":MAILTO:no-reply@hasgeek.com
BEGIN:VALARM
ACTION:display
DESCRIPTION:Grafana Tempo - The Path to 1 million spans/sec in 5 minutes
TRIGGER:-PT5M
END:VALARM
END:VEVENT
BEGIN:VEVENT
SUMMARY:Break
DTSTART:20210417T062000Z
DTEND:20210417T062500Z
DTSTAMP:20260421T032734Z
UID:session/JK5Uj9ZmbH7tdzRG844dPM@hasgeek.com
SEQUENCE:1
CREATED:20210413T090930Z
DESCRIPTION:Catch-up\, banter\, break.
LAST-MODIFIED:20230108T103046Z
LOCATION:Online
ORGANIZER;CN="Bangalore Observability Meetup ":MAILTO:no-reply@hasgeek.com
BEGIN:VALARM
ACTION:display
DESCRIPTION:Break in 5 minutes
TRIGGER:-PT5M
END:VALARM
END:VEVENT
BEGIN:VEVENT
SUMMARY:Building SigNoz - An  Open Source Observability Platform
DTSTART:20210417T062500Z
DTEND:20210417T072500Z
DTSTAMP:20260421T032734Z
UID:session/QDSUubhE5ESgj7xRtSMrCv@hasgeek.com
SEQUENCE:1
CREATED:20210413T092030Z
DESCRIPTION:Ankit Nayan\, co-founder of signoz.io takes us on the journey 
 of building an open-source observabilty platform that aims to combine trac
 es\, metrics and logs under a single solution.
LAST-MODIFIED:20230108T103046Z
LOCATION:Online
ORGANIZER;CN="Bangalore Observability Meetup ":MAILTO:no-reply@hasgeek.com
BEGIN:VALARM
ACTION:display
DESCRIPTION:Building SigNoz - An  Open Source Observability Platform in 5 
 minutes
TRIGGER:-PT5M
END:VALARM
END:VEVENT
BEGIN:VEVENT
SUMMARY:End of Meetup Banter and Catch-up
DTSTART:20210417T072500Z
DTEND:20210417T074000Z
DTSTAMP:20260421T032734Z
UID:session/U68MQ7RqBN3z1wYHrML34A@hasgeek.com
SEQUENCE:0
CREATED:20210413T092127Z
LAST-MODIFIED:20210413T092135Z
LOCATION:Online
ORGANIZER;CN="Bangalore Observability Meetup ":MAILTO:no-reply@hasgeek.com
BEGIN:VALARM
ACTION:display
DESCRIPTION:End of Meetup Banter and Catch-up in 5 minutes
TRIGGER:-PT5M
END:VALARM
END:VEVENT
END:VCALENDAR
