BEGIN:VCALENDAR
VERSION:2.0
PRODID:-//HasGeek//NONSGML Funnel//EN
DESCRIPTION:Accredited by the Data Security Council of India (DSCI) - a NA
 SSCOM body
X-WR-CALDESC:Accredited by the Data Security Council of India (DSCI) - a N
 ASSCOM body
NAME:Data Privacy training program
X-WR-CALNAME:Data Privacy training program
REFRESH-INTERVAL;VALUE=DURATION:PT12H
SUMMARY:Data Privacy training program
TIMEZONE-ID:Asia/Kolkata
X-PUBLISHED-TTL:PT12H
X-WR-TIMEZONE:Asia/Kolkata
BEGIN:VEVENT
SUMMARY:Introduction Session
DTSTART:20200626T035000Z
DTEND:20200626T040000Z
DTSTAMP:20260421T210228Z
UID:session/Ji6j8WNYm4d6SZqocpr3uo@hasgeek.com
SEQUENCE:0
CREATED:20200616T090051Z
DESCRIPTION:\n
LAST-MODIFIED:20200616T091821Z
LOCATION:Online
ORGANIZER;CN=Arrka:MAILTO:no-reply@hasgeek.com
BEGIN:VALARM
ACTION:display
DESCRIPTION:Introduction Session in 5 minutes
TRIGGER:-PT5M
END:VALARM
END:VEVENT
BEGIN:VEVENT
SUMMARY:Introduction to Data Privacy & Objective Setting
DTSTART:20200626T040000Z
DTEND:20200626T043000Z
DTSTAMP:20260421T210228Z
UID:session/KJ4fjgBsQsLgy6VZ74nduy@hasgeek.com
SEQUENCE:0
CREATED:20200616T090206Z
DESCRIPTION:\n
LAST-MODIFIED:20200616T091825Z
LOCATION:Online
ORGANIZER;CN=Arrka:MAILTO:no-reply@hasgeek.com
BEGIN:VALARM
ACTION:display
DESCRIPTION:Introduction to Data Privacy & Objective Setting in 5 minutes
TRIGGER:-PT5M
END:VALARM
END:VEVENT
BEGIN:VEVENT
SUMMARY:Drivers to Data Privacy\; General Concepts & Vocabulary
DTSTART:20200626T043000Z
DTEND:20200626T053000Z
DTSTAMP:20260421T210228Z
UID:session/CQssJgmRPRcjQCV3FgVGB@hasgeek.com
SEQUENCE:0
CREATED:20200616T091537Z
DESCRIPTION:\n
LAST-MODIFIED:20200616T091835Z
LOCATION:Online
ORGANIZER;CN=Arrka:MAILTO:no-reply@hasgeek.com
BEGIN:VALARM
ACTION:display
DESCRIPTION:Drivers to Data Privacy\; General Concepts & Vocabulary in 5 m
 inutes
TRIGGER:-PT5M
END:VALARM
END:VEVENT
BEGIN:VEVENT
SUMMARY:Tea Break
DTSTART:20200626T053000Z
DTEND:20200626T054500Z
DTSTAMP:20260421T210228Z
UID:session/PQ6ErBDT9KVNjaoni6barT@hasgeek.com
SEQUENCE:0
CREATED:20200616T090250Z
DESCRIPTION:\n
LAST-MODIFIED:20200616T091753Z
LOCATION:Online
ORGANIZER;CN=Arrka:MAILTO:no-reply@hasgeek.com
BEGIN:VALARM
ACTION:display
DESCRIPTION:Tea Break in 5 minutes
TRIGGER:-PT5M
END:VALARM
END:VEVENT
BEGIN:VEVENT
SUMMARY:Privacy Principles & Rights
DTSTART:20200626T054500Z
DTEND:20200626T080000Z
DTSTAMP:20260421T210228Z
UID:session/G4mgxChhKSTvA1BRfiP3iC@hasgeek.com
SEQUENCE:0
CREATED:20200616T091642Z
DESCRIPTION:\n
LAST-MODIFIED:20200616T091813Z
LOCATION:Online
ORGANIZER;CN=Arrka:MAILTO:no-reply@hasgeek.com
BEGIN:VALARM
ACTION:display
DESCRIPTION:Privacy Principles & Rights in 5 minutes
TRIGGER:-PT5M
END:VALARM
END:VEVENT
BEGIN:VEVENT
SUMMARY:Lunch
DTSTART:20200626T080000Z
DTEND:20200626T085000Z
DTSTAMP:20260421T210228Z
UID:session/x746f71g5Mk4DaoeQi2q6@hasgeek.com
SEQUENCE:0
CREATED:20200616T091708Z
DESCRIPTION:\n
LAST-MODIFIED:20200616T091738Z
LOCATION:Online
ORGANIZER;CN=Arrka:MAILTO:no-reply@hasgeek.com
BEGIN:VALARM
ACTION:display
DESCRIPTION:Lunch in 5 minutes
TRIGGER:-PT5M
END:VALARM
END:VEVENT
BEGIN:VEVENT
SUMMARY:Privacy Principles contd....
DTSTART:20200626T085000Z
DTEND:20200626T094500Z
DTSTAMP:20260421T210228Z
UID:session/Rn9CevNkFong6bTAubfUBq@hasgeek.com
SEQUENCE:0
CREATED:20200616T091903Z
DESCRIPTION:\n
LAST-MODIFIED:20200616T091917Z
LOCATION:Online
ORGANIZER;CN=Arrka:MAILTO:no-reply@hasgeek.com
BEGIN:VALARM
ACTION:display
DESCRIPTION:Privacy Principles contd.... in 5 minutes
TRIGGER:-PT5M
END:VALARM
END:VEVENT
BEGIN:VEVENT
SUMMARY:Platforms for PD Transactions including Tracking Eco Systems
DTSTART:20200626T094500Z
DTEND:20200626T104500Z
DTSTAMP:20260421T210228Z
UID:session/Vz4UFZwUAZqrMEeF5RuL6C@hasgeek.com
SEQUENCE:0
CREATED:20200616T092004Z
DESCRIPTION:\n
LAST-MODIFIED:20200616T092011Z
LOCATION:Online
ORGANIZER;CN=Arrka:MAILTO:no-reply@hasgeek.com
BEGIN:VALARM
ACTION:display
DESCRIPTION:Platforms for PD Transactions including Tracking Eco Systems i
 n 5 minutes
TRIGGER:-PT5M
END:VALARM
END:VEVENT
BEGIN:VEVENT
SUMMARY:Tea Break
DTSTART:20200626T104500Z
DTEND:20200626T110500Z
DTSTAMP:20260421T210228Z
UID:session/26a5tVg8cYCeUg6V2CjELL@hasgeek.com
SEQUENCE:0
CREATED:20200616T092028Z
DESCRIPTION:\n
LAST-MODIFIED:20200616T092041Z
LOCATION:Online
ORGANIZER;CN=Arrka:MAILTO:no-reply@hasgeek.com
BEGIN:VALARM
ACTION:display
DESCRIPTION:Tea Break in 5 minutes
TRIGGER:-PT5M
END:VALARM
END:VEVENT
BEGIN:VEVENT
SUMMARY:Privacy Enhancing Tools & Techniques (PET)
DTSTART:20200626T110500Z
DTEND:20200626T120500Z
DTSTAMP:20260421T210228Z
UID:session/Nz9NYxH2VDqXZpxrauUp4r@hasgeek.com
SEQUENCE:0
CREATED:20200616T092112Z
DESCRIPTION:\n
LAST-MODIFIED:20200616T092123Z
LOCATION:Online
ORGANIZER;CN=Arrka:MAILTO:no-reply@hasgeek.com
BEGIN:VALARM
ACTION:display
DESCRIPTION:Privacy Enhancing Tools & Techniques (PET) in 5 minutes
TRIGGER:-PT5M
END:VALARM
END:VEVENT
BEGIN:VEVENT
SUMMARY:Privacy Laws - Framework Privacy Laws - GDPR\, Singapore\, US\, Ca
 nada\, Australia Privacy Laws - India
DTSTART:20200627T040000Z
DTEND:20200627T060000Z
DTSTAMP:20260421T210228Z
UID:session/Ktvmwb4653pDsaPbiu2BYt@hasgeek.com
SEQUENCE:0
CREATED:20200616T092213Z
DESCRIPTION:\n
LAST-MODIFIED:20200616T092251Z
LOCATION:Online
ORGANIZER;CN=Arrka:MAILTO:no-reply@hasgeek.com
BEGIN:VALARM
ACTION:display
DESCRIPTION:Privacy Laws - Framework Privacy Laws - GDPR\, Singapore\, US\
 , Canada\, Australia Privacy Laws - India in 5 minutes
TRIGGER:-PT5M
END:VALARM
END:VEVENT
BEGIN:VEVENT
SUMMARY:Tea Break
DTSTART:20200627T060000Z
DTEND:20200627T062000Z
DTSTAMP:20260421T210228Z
UID:session/JUSv3cSm6qVMp56mLyJrVR@hasgeek.com
SEQUENCE:0
CREATED:20200616T092305Z
DESCRIPTION:\n
LAST-MODIFIED:20200616T092309Z
LOCATION:Online
ORGANIZER;CN=Arrka:MAILTO:no-reply@hasgeek.com
BEGIN:VALARM
ACTION:display
DESCRIPTION:Tea Break in 5 minutes
TRIGGER:-PT5M
END:VALARM
END:VEVENT
BEGIN:VEVENT
SUMMARY:Trans-border Data Flows
DTSTART:20200627T062000Z
DTEND:20200627T075000Z
DTSTAMP:20260421T210228Z
UID:session/5B5WwgxCiwUyaUDNZMAeGo@hasgeek.com
SEQUENCE:0
CREATED:20200616T092327Z
DESCRIPTION:\n
LAST-MODIFIED:20200616T092345Z
LOCATION:Online
ORGANIZER;CN=Arrka:MAILTO:no-reply@hasgeek.com
BEGIN:VALARM
ACTION:display
DESCRIPTION:Trans-border Data Flows in 5 minutes
TRIGGER:-PT5M
END:VALARM
END:VEVENT
BEGIN:VEVENT
SUMMARY:Lunch
DTSTART:20200627T075000Z
DTEND:20200627T083500Z
DTSTAMP:20260421T210228Z
UID:session/Bq1Py3maTmsTrzTd7Qr94@hasgeek.com
SEQUENCE:0
CREATED:20200616T092403Z
DESCRIPTION:\n
LAST-MODIFIED:20200616T092415Z
LOCATION:Online
ORGANIZER;CN=Arrka:MAILTO:no-reply@hasgeek.com
BEGIN:VALARM
ACTION:display
DESCRIPTION:Lunch in 5 minutes
TRIGGER:-PT5M
END:VALARM
END:VEVENT
BEGIN:VEVENT
SUMMARY:Beyond Information Privacy Information Lifecycle
DTSTART:20200627T083500Z
DTEND:20200627T100500Z
DTSTAMP:20260421T210228Z
UID:session/Pba96MLdC6heowyw4Kw2Ed@hasgeek.com
SEQUENCE:0
CREATED:20200616T092436Z
DESCRIPTION:\n
LAST-MODIFIED:20200616T092454Z
LOCATION:Online
ORGANIZER;CN=Arrka:MAILTO:no-reply@hasgeek.com
BEGIN:VALARM
ACTION:display
DESCRIPTION:Beyond Information Privacy Information Lifecycle in 5 minutes
TRIGGER:-PT5M
END:VALARM
END:VEVENT
BEGIN:VEVENT
SUMMARY:Tea Break
DTSTART:20200627T100500Z
DTEND:20200627T102000Z
DTSTAMP:20260421T210228Z
UID:session/HcQmWxYBMXrYVUtDo5XAvJ@hasgeek.com
SEQUENCE:0
CREATED:20200616T092516Z
DESCRIPTION:\n
LAST-MODIFIED:20200616T092521Z
LOCATION:Online
ORGANIZER;CN=Arrka:MAILTO:no-reply@hasgeek.com
BEGIN:VALARM
ACTION:display
DESCRIPTION:Tea Break in 5 minutes
TRIGGER:-PT5M
END:VALARM
END:VEVENT
BEGIN:VEVENT
SUMMARY:Privacy in Organizational Ecosystems
DTSTART:20200627T102000Z
DTEND:20200627T113500Z
DTSTAMP:20260421T210228Z
UID:session/E3qxnBaiqGyPz1aUfAiEJc@hasgeek.com
SEQUENCE:0
CREATED:20200616T092546Z
DESCRIPTION:\n
LAST-MODIFIED:20200616T092607Z
LOCATION:Online
ORGANIZER;CN=Arrka:MAILTO:no-reply@hasgeek.com
BEGIN:VALARM
ACTION:display
DESCRIPTION:Privacy in Organizational Ecosystems in 5 minutes
TRIGGER:-PT5M
END:VALARM
END:VEVENT
BEGIN:VEVENT
SUMMARY:DCPP Exam : Structure & Tips
DTSTART:20200627T113500Z
DTEND:20200627T123000Z
DTSTAMP:20260421T210228Z
UID:session/GyeDJvxeHMLHNB25eQNMhA@hasgeek.com
SEQUENCE:0
CREATED:20200616T092625Z
DESCRIPTION:\n
LAST-MODIFIED:20200616T092633Z
LOCATION:Online
ORGANIZER;CN=Arrka:MAILTO:no-reply@hasgeek.com
BEGIN:VALARM
ACTION:display
DESCRIPTION:DCPP Exam : Structure & Tips in 5 minutes
TRIGGER:-PT5M
END:VALARM
END:VEVENT
END:VCALENDAR
