BEGIN:VCALENDAR
VERSION:2.0
PRODID:-//HasGeek//NONSGML Funnel//EN
DESCRIPTION:A training session for Adtech and Martech practitioners
X-WR-CALDESC:A training session for Adtech and Martech practitioners
NAME:Privacy 101 Workshop for Marketers
X-WR-CALNAME:Privacy 101 Workshop for Marketers
REFRESH-INTERVAL;VALUE=DURATION:PT12H
SUMMARY:Privacy 101 Workshop for Marketers
TIMEZONE-ID:Asia/Kolkata
X-PUBLISHED-TTL:PT12H
X-WR-TIMEZONE:Asia/Kolkata
BEGIN:VEVENT
SUMMARY:Introduction to the workshop\, workshop plan and trainers
DTSTART:20200602T040000Z
DTEND:20200602T041000Z
DTSTAMP:20260421T205413Z
UID:session/7cgMcisa2LX8A4SSG4u5TB@hasgeek.com
SEQUENCE:0
CREATED:20200527T013843Z
DESCRIPTION:\n
LAST-MODIFIED:20200527T013847Z
LOCATION:Online
ORGANIZER;CN=Arrka:MAILTO:no-reply@hasgeek.com
BEGIN:VALARM
ACTION:display
DESCRIPTION:Introduction to the workshop\, workshop plan and trainers in 5
  minutes
TRIGGER:-PT5M
END:VALARM
END:VEVENT
BEGIN:VEVENT
SUMMARY:Session 1: The growth of data-led marketing
DTSTART:20200602T041000Z
DTEND:20200602T044000Z
DTSTAMP:20260421T205413Z
UID:session/R9aeqYbh9z5hNWdzX9QYcG@hasgeek.com
SEQUENCE:0
CREATED:20200527T013936Z
DESCRIPTION:\n
LAST-MODIFIED:20200527T015624Z
LOCATION:Online
ORGANIZER;CN=Arrka:MAILTO:no-reply@hasgeek.com
BEGIN:VALARM
ACTION:display
DESCRIPTION:Session 1: The growth of data-led marketing in 5 minutes
TRIGGER:-PT5M
END:VALARM
END:VEVENT
BEGIN:VEVENT
SUMMARY:Session 2: Framework for responsible marketing\; incorporating pri
 vacy by design
DTSTART:20200602T044000Z
DTEND:20200602T051000Z
DTSTAMP:20260421T205413Z
UID:session/3ZCdRwE8ATccqxjRQux1tG@hasgeek.com
SEQUENCE:0
CREATED:20200527T014012Z
DESCRIPTION:\n
LAST-MODIFIED:20200527T015628Z
LOCATION:Online
ORGANIZER;CN=Arrka:MAILTO:no-reply@hasgeek.com
BEGIN:VALARM
ACTION:display
DESCRIPTION:Session 2: Framework for responsible marketing\; incorporating
  privacy by design in 5 minutes
TRIGGER:-PT5M
END:VALARM
END:VEVENT
BEGIN:VEVENT
SUMMARY:Break + participant interactions
DTSTART:20200602T051000Z
DTEND:20200602T053000Z
DTSTAMP:20260421T205413Z
UID:session/KgjvyrPBdqyRLgcR5feGdQ@hasgeek.com
SEQUENCE:0
CREATED:20200527T014026Z
DESCRIPTION:\n
LAST-MODIFIED:20200527T014236Z
LOCATION:Online
ORGANIZER;CN=Arrka:MAILTO:no-reply@hasgeek.com
BEGIN:VALARM
ACTION:display
DESCRIPTION:Break + participant interactions in 5 minutes
TRIGGER:-PT5M
END:VALARM
END:VEVENT
BEGIN:VEVENT
SUMMARY:Session 3: How do consumers view their data and privacy.
DTSTART:20200602T053000Z
DTEND:20200602T060000Z
DTSTAMP:20260421T205413Z
UID:session/MptHeYH5HvPMSgthDetxzC@hasgeek.com
SEQUENCE:0
CREATED:20200527T014058Z
DESCRIPTION:\n
LAST-MODIFIED:20200527T015632Z
LOCATION:Online
ORGANIZER;CN=Arrka:MAILTO:no-reply@hasgeek.com
BEGIN:VALARM
ACTION:display
DESCRIPTION:Session 3: How do consumers view their data and privacy. in 5 
 minutes
TRIGGER:-PT5M
END:VALARM
END:VEVENT
BEGIN:VEVENT
SUMMARY:Session 4: How organisations can build trust: a framework for resp
 onsible marketing.
DTSTART:20200602T060000Z
DTEND:20200602T063000Z
DTSTAMP:20260421T205413Z
UID:session/WKaRNU75LukAZ283oG3nAo@hasgeek.com
SEQUENCE:0
CREATED:20200527T014147Z
DESCRIPTION:\n
LAST-MODIFIED:20200527T015709Z
LOCATION:Online
ORGANIZER;CN=Arrka:MAILTO:no-reply@hasgeek.com
BEGIN:VALARM
ACTION:display
DESCRIPTION:Session 4: How organisations can build trust: a framework for 
 responsible marketing. in 5 minutes
TRIGGER:-PT5M
END:VALARM
END:VEVENT
BEGIN:VEVENT
SUMMARY:Q&A session
DTSTART:20200602T063000Z
DTEND:20200602T065000Z
DTSTAMP:20260421T205413Z
UID:session/V1hQt8domjP237cxAbMEuM@hasgeek.com
SEQUENCE:0
CREATED:20200527T014210Z
DESCRIPTION:\n
LAST-MODIFIED:20200527T014242Z
LOCATION:Online
ORGANIZER;CN=Arrka:MAILTO:no-reply@hasgeek.com
BEGIN:VALARM
ACTION:display
DESCRIPTION:Q&A session in 5 minutes
TRIGGER:-PT5M
END:VALARM
END:VEVENT
BEGIN:VEVENT
SUMMARY:Lunch break\; participant interactions
DTSTART:20200602T065000Z
DTEND:20200602T073000Z
DTSTAMP:20260421T205413Z
UID:session/H4SsRxjk6Tms42jzFKyAtJ@hasgeek.com
SEQUENCE:0
CREATED:20200527T014300Z
DESCRIPTION:\n
LAST-MODIFIED:20200527T014311Z
LOCATION:Online
ORGANIZER;CN=Arrka:MAILTO:no-reply@hasgeek.com
BEGIN:VALARM
ACTION:display
DESCRIPTION:Lunch break\; participant interactions in 5 minutes
TRIGGER:-PT5M
END:VALARM
END:VEVENT
BEGIN:VEVENT
SUMMARY:Session 5: Understanding personal data
DTSTART:20200602T073000Z
DTEND:20200602T080000Z
DTSTAMP:20260421T205413Z
UID:session/RWbtnHx4JqHH2gJPmybiL@hasgeek.com
SEQUENCE:0
CREATED:20200527T014342Z
DESCRIPTION:\n
LAST-MODIFIED:20200527T015636Z
LOCATION:Online
ORGANIZER;CN=Arrka:MAILTO:no-reply@hasgeek.com
BEGIN:VALARM
ACTION:display
DESCRIPTION:Session 5: Understanding personal data in 5 minutes
TRIGGER:-PT5M
END:VALARM
END:VEVENT
BEGIN:VEVENT
SUMMARY:Session 6: Basic concepts of data privacy
DTSTART:20200602T080000Z
DTEND:20200602T083000Z
DTSTAMP:20260421T205413Z
UID:session/FYfjmbor4eMRHPV7HCMvR8@hasgeek.com
SEQUENCE:0
CREATED:20200527T014416Z
DESCRIPTION:\n
LAST-MODIFIED:20200527T014420Z
LOCATION:Online
ORGANIZER;CN=Arrka:MAILTO:no-reply@hasgeek.com
BEGIN:VALARM
ACTION:display
DESCRIPTION:Session 6: Basic concepts of data privacy in 5 minutes
TRIGGER:-PT5M
END:VALARM
END:VEVENT
BEGIN:VEVENT
SUMMARY:Q&A session
DTSTART:20200602T083000Z
DTEND:20200602T085000Z
DTSTAMP:20260421T205413Z
UID:session/FXKfbjSQqnF8SLs1E4pMR9@hasgeek.com
SEQUENCE:0
CREATED:20200527T014433Z
DESCRIPTION:\n
LAST-MODIFIED:20200527T014435Z
LOCATION:Online
ORGANIZER;CN=Arrka:MAILTO:no-reply@hasgeek.com
BEGIN:VALARM
ACTION:display
DESCRIPTION:Q&A session in 5 minutes
TRIGGER:-PT5M
END:VALARM
END:VEVENT
BEGIN:VEVENT
SUMMARY:Short break
DTSTART:20200602T085000Z
DTEND:20200602T090500Z
DTSTAMP:20260421T205413Z
UID:session/JeWCxi3d195nqefnYgfsdB@hasgeek.com
SEQUENCE:0
CREATED:20200527T014446Z
DESCRIPTION:\n
LAST-MODIFIED:20200527T014449Z
LOCATION:Online
ORGANIZER;CN=Arrka:MAILTO:no-reply@hasgeek.com
BEGIN:VALARM
ACTION:display
DESCRIPTION:Short break in 5 minutes
TRIGGER:-PT5M
END:VALARM
END:VEVENT
BEGIN:VEVENT
SUMMARY:Session 7: Privacy principles\, rights\, organisational obligation
 s
DTSTART:20200602T090500Z
DTEND:20200602T100000Z
DTSTAMP:20260421T205413Z
UID:session/8vFqQBmD9DGmhgLtCw9cCQ@hasgeek.com
SEQUENCE:0
CREATED:20200527T014522Z
DESCRIPTION:\n
LAST-MODIFIED:20200527T015641Z
LOCATION:Online
ORGANIZER;CN=Arrka:MAILTO:no-reply@hasgeek.com
BEGIN:VALARM
ACTION:display
DESCRIPTION:Session 7: Privacy principles\, rights\, organisational obliga
 tions in 5 minutes
TRIGGER:-PT5M
END:VALARM
END:VEVENT
BEGIN:VEVENT
SUMMARY:Q&A session
DTSTART:20200602T100000Z
DTEND:20200602T102000Z
DTSTAMP:20260421T205413Z
UID:session/7bfkjXrHFQrKWJo2nrsLRi@hasgeek.com
SEQUENCE:0
CREATED:20200527T014537Z
DESCRIPTION:\n
LAST-MODIFIED:20200527T014543Z
LOCATION:Online
ORGANIZER;CN=Arrka:MAILTO:no-reply@hasgeek.com
BEGIN:VALARM
ACTION:display
DESCRIPTION:Q&A session in 5 minutes
TRIGGER:-PT5M
END:VALARM
END:VEVENT
BEGIN:VEVENT
SUMMARY:Evening break
DTSTART:20200602T102000Z
DTEND:20200602T104000Z
DTSTAMP:20260421T205413Z
UID:session/QpSWUxdDNiQ5jdHaWpZxQt@hasgeek.com
SEQUENCE:0
CREATED:20200527T014552Z
DESCRIPTION:\n
LAST-MODIFIED:20200527T014555Z
LOCATION:Online
ORGANIZER;CN=Arrka:MAILTO:no-reply@hasgeek.com
BEGIN:VALARM
ACTION:display
DESCRIPTION:Evening break in 5 minutes
TRIGGER:-PT5M
END:VALARM
END:VEVENT
BEGIN:VEVENT
SUMMARY:Session 8: An overview of key privacy laws: GDPR\, India’s upcom
 ing Personal Data Protection Act (PDPA)
DTSTART:20200602T104000Z
DTEND:20200602T113000Z
DTSTAMP:20260421T205413Z
UID:session/H974zgs5xUUWnaR7E1tG5c@hasgeek.com
SEQUENCE:0
CREATED:20200527T014641Z
DESCRIPTION:\n
LAST-MODIFIED:20200527T015653Z
LOCATION:Online
ORGANIZER;CN=Arrka:MAILTO:no-reply@hasgeek.com
BEGIN:VALARM
ACTION:display
DESCRIPTION:Session 8: An overview of key privacy laws: GDPR\, India’s u
 pcoming Personal Data Protection Act (PDPA) in 5 minutes
TRIGGER:-PT5M
END:VALARM
END:VEVENT
BEGIN:VEVENT
SUMMARY:Q&A\; interaction with speakers and participants
DTSTART:20200602T113000Z
DTEND:20200602T122000Z
DTSTAMP:20260421T205413Z
UID:session/M8UgkP5QXwtDgRe7U2KGLi@hasgeek.com
SEQUENCE:0
CREATED:20200527T014701Z
DESCRIPTION:\n
LAST-MODIFIED:20200527T015727Z
LOCATION:Online
ORGANIZER;CN=Arrka:MAILTO:no-reply@hasgeek.com
BEGIN:VALARM
ACTION:display
DESCRIPTION:Q&A\; interaction with speakers and participants in 5 minutes
TRIGGER:-PT5M
END:VALARM
END:VEVENT
BEGIN:VEVENT
SUMMARY:Summary\, closing and follow-up
DTSTART:20200602T122000Z
DTEND:20200602T123000Z
DTSTAMP:20260421T205413Z
UID:session/Mzjco2fUMxhcmfSrsdNPaF@hasgeek.com
SEQUENCE:0
CREATED:20200527T014727Z
DESCRIPTION:\n
LAST-MODIFIED:20200527T014730Z
LOCATION:Online
ORGANIZER;CN=Arrka:MAILTO:no-reply@hasgeek.com
BEGIN:VALARM
ACTION:display
DESCRIPTION:Summary\, closing and follow-up in 5 minutes
TRIGGER:-PT5M
END:VALARM
END:VEVENT
END:VCALENDAR
