BEGIN:VCALENDAR
VERSION:2.0
PRODID:-//HasGeek//NONSGML Funnel//EN
DESCRIPTION:Accredited by Data Security Council of India (DSCI) - a NASSCO
 M body
X-WR-CALDESC:Accredited by Data Security Council of India (DSCI) - a NASSC
 OM body
NAME:Data Privacy Training Program
X-WR-CALNAME:Data Privacy Training Program
REFRESH-INTERVAL;VALUE=DURATION:PT12H
SUMMARY:Data Privacy Training Program
TIMEZONE-ID:Asia/Kolkata
X-PUBLISHED-TTL:PT12H
X-WR-TIMEZONE:Asia/Kolkata
BEGIN:VEVENT
SUMMARY:Introduction Session
DTSTART:20200730T040000Z
DTEND:20200730T040500Z
DTSTAMP:20260421T204414Z
UID:session/Xr4vhaNB1AWvhAQmoYuPkL@hasgeek.com
SEQUENCE:0
CREATED:20200701T061543Z
DESCRIPTION:\n
LAST-MODIFIED:20200701T061543Z
LOCATION:Online
ORGANIZER;CN=Arrka:MAILTO:no-reply@hasgeek.com
BEGIN:VALARM
ACTION:display
DESCRIPTION:Introduction Session in 5 minutes
TRIGGER:-PT5M
END:VALARM
END:VEVENT
BEGIN:VEVENT
SUMMARY:Introduction to Data Privacy & Objective Setting
DTSTART:20200730T040500Z
DTEND:20200730T043000Z
DTSTAMP:20260421T204414Z
UID:session/8Fg8i8918dhspXk26LZ9XG@hasgeek.com
SEQUENCE:0
CREATED:20200701T061658Z
DESCRIPTION:\n
LAST-MODIFIED:20200701T061726Z
LOCATION:Online
ORGANIZER;CN=Arrka:MAILTO:no-reply@hasgeek.com
BEGIN:VALARM
ACTION:display
DESCRIPTION:Introduction to Data Privacy & Objective Setting in 5 minutes
TRIGGER:-PT5M
END:VALARM
END:VEVENT
BEGIN:VEVENT
SUMMARY:Drivers to Data Privacy\; General Concepts & Vocabulary
DTSTART:20200730T043000Z
DTEND:20200730T053000Z
DTSTAMP:20260421T204414Z
UID:session/5SruM8D4FYvZkBVhimQghG@hasgeek.com
SEQUENCE:0
CREATED:20200701T061752Z
DESCRIPTION:\n
LAST-MODIFIED:20200701T061807Z
LOCATION:Online
ORGANIZER;CN=Arrka:MAILTO:no-reply@hasgeek.com
BEGIN:VALARM
ACTION:display
DESCRIPTION:Drivers to Data Privacy\; General Concepts & Vocabulary in 5 m
 inutes
TRIGGER:-PT5M
END:VALARM
END:VEVENT
BEGIN:VEVENT
SUMMARY:Tea Break
DTSTART:20200730T053000Z
DTEND:20200730T054000Z
DTSTAMP:20260421T204414Z
UID:session/XvybrsyaezbQcbTAtR5MtM@hasgeek.com
SEQUENCE:0
CREATED:20200701T061832Z
DESCRIPTION:\n
LAST-MODIFIED:20200701T061837Z
LOCATION:Online
ORGANIZER;CN=Arrka:MAILTO:no-reply@hasgeek.com
BEGIN:VALARM
ACTION:display
DESCRIPTION:Tea Break in 5 minutes
TRIGGER:-PT5M
END:VALARM
END:VEVENT
BEGIN:VEVENT
SUMMARY:Privacy Principles & Rights
DTSTART:20200730T054000Z
DTEND:20200730T080000Z
DTSTAMP:20260421T204414Z
UID:session/U3Hs3JbN69bd9YYg46aDjn@hasgeek.com
SEQUENCE:0
CREATED:20200701T061911Z
DESCRIPTION:\n
LAST-MODIFIED:20200701T061953Z
LOCATION:Online
ORGANIZER;CN=Arrka:MAILTO:no-reply@hasgeek.com
BEGIN:VALARM
ACTION:display
DESCRIPTION:Privacy Principles & Rights in 5 minutes
TRIGGER:-PT5M
END:VALARM
END:VEVENT
BEGIN:VEVENT
SUMMARY:Lunch Break
DTSTART:20200730T080000Z
DTEND:20200730T084500Z
DTSTAMP:20260421T204414Z
UID:session/5YCaK6EDZAHARwVb8BsNvH@hasgeek.com
SEQUENCE:0
CREATED:20200701T062024Z
DESCRIPTION:\n
LAST-MODIFIED:20200701T062039Z
LOCATION:Online
ORGANIZER;CN=Arrka:MAILTO:no-reply@hasgeek.com
BEGIN:VALARM
ACTION:display
DESCRIPTION:Lunch Break in 5 minutes
TRIGGER:-PT5M
END:VALARM
END:VEVENT
BEGIN:VEVENT
SUMMARY:Privacy Principles contd....
DTSTART:20200730T084500Z
DTEND:20200730T094500Z
DTSTAMP:20260421T204414Z
UID:session/MrDx9oRWgPyCX7qnLquoQo@hasgeek.com
SEQUENCE:0
CREATED:20200701T062105Z
DESCRIPTION:\n
LAST-MODIFIED:20200701T062139Z
LOCATION:Online
ORGANIZER;CN=Arrka:MAILTO:no-reply@hasgeek.com
BEGIN:VALARM
ACTION:display
DESCRIPTION:Privacy Principles contd.... in 5 minutes
TRIGGER:-PT5M
END:VALARM
END:VEVENT
BEGIN:VEVENT
SUMMARY:Platforms for PD Transactions including Tracking Eco Systems
DTSTART:20200730T094500Z
DTEND:20200730T104500Z
DTSTAMP:20260421T204414Z
UID:session/PcSsWfV3QNYko7nFF2KQvU@hasgeek.com
SEQUENCE:0
CREATED:20200701T062204Z
DESCRIPTION:\n
LAST-MODIFIED:20200701T062214Z
LOCATION:Online
ORGANIZER;CN=Arrka:MAILTO:no-reply@hasgeek.com
BEGIN:VALARM
ACTION:display
DESCRIPTION:Platforms for PD Transactions including Tracking Eco Systems i
 n 5 minutes
TRIGGER:-PT5M
END:VALARM
END:VEVENT
BEGIN:VEVENT
SUMMARY:Tea Break
DTSTART:20200730T104500Z
DTEND:20200730T110000Z
DTSTAMP:20260421T204414Z
UID:session/YNPGPwxuUTuhDWFb8NQvxJ@hasgeek.com
SEQUENCE:0
CREATED:20200701T062241Z
DESCRIPTION:\n
LAST-MODIFIED:20200701T062248Z
LOCATION:Online
ORGANIZER;CN=Arrka:MAILTO:no-reply@hasgeek.com
BEGIN:VALARM
ACTION:display
DESCRIPTION:Tea Break in 5 minutes
TRIGGER:-PT5M
END:VALARM
END:VEVENT
BEGIN:VEVENT
SUMMARY:Privacy Enhancing Tools & Techniques (PET)
DTSTART:20200730T110000Z
DTEND:20200730T120000Z
DTSTAMP:20260421T204414Z
UID:session/pzahqyYp3LAA7z8KYbhXD@hasgeek.com
SEQUENCE:0
CREATED:20200701T062314Z
DESCRIPTION:\n
LAST-MODIFIED:20200701T062332Z
LOCATION:Online
ORGANIZER;CN=Arrka:MAILTO:no-reply@hasgeek.com
BEGIN:VALARM
ACTION:display
DESCRIPTION:Privacy Enhancing Tools & Techniques (PET) in 5 minutes
TRIGGER:-PT5M
END:VALARM
END:VEVENT
BEGIN:VEVENT
SUMMARY:Privacy Laws - Framework Privacy Laws - GDPR\, Singapore\, US\, Ca
 nada\, Australia Privacy Laws - India
DTSTART:20200731T040000Z
DTEND:20200731T060000Z
DTSTAMP:20260421T204414Z
UID:session/LjWLzefvJARxvVAhByot8p@hasgeek.com
SEQUENCE:0
CREATED:20200701T062442Z
DESCRIPTION:\n
LAST-MODIFIED:20200701T062510Z
LOCATION:Online
ORGANIZER;CN=Arrka:MAILTO:no-reply@hasgeek.com
BEGIN:VALARM
ACTION:display
DESCRIPTION:Privacy Laws - Framework Privacy Laws - GDPR\, Singapore\, US\
 , Canada\, Australia Privacy Laws - India in 5 minutes
TRIGGER:-PT5M
END:VALARM
END:VEVENT
BEGIN:VEVENT
SUMMARY:Tea Break
DTSTART:20200731T060000Z
DTEND:20200731T061500Z
DTSTAMP:20260421T204414Z
UID:session/BD6V1pcjCb8Kds6z7QMxSU@hasgeek.com
SEQUENCE:0
CREATED:20200701T062554Z
DESCRIPTION:\n
LAST-MODIFIED:20200701T062600Z
LOCATION:Online
ORGANIZER;CN=Arrka:MAILTO:no-reply@hasgeek.com
BEGIN:VALARM
ACTION:display
DESCRIPTION:Tea Break in 5 minutes
TRIGGER:-PT5M
END:VALARM
END:VEVENT
BEGIN:VEVENT
SUMMARY:Trans-border Data Flows
DTSTART:20200731T061500Z
DTEND:20200731T080000Z
DTSTAMP:20260421T204414Z
UID:session/G6B811r2pyrTmp4KezzhRc@hasgeek.com
SEQUENCE:0
CREATED:20200701T062621Z
DESCRIPTION:\n
LAST-MODIFIED:20200701T062648Z
LOCATION:Online
ORGANIZER;CN=Arrka:MAILTO:no-reply@hasgeek.com
BEGIN:VALARM
ACTION:display
DESCRIPTION:Trans-border Data Flows in 5 minutes
TRIGGER:-PT5M
END:VALARM
END:VEVENT
BEGIN:VEVENT
SUMMARY:Lunch Break
DTSTART:20200731T080000Z
DTEND:20200731T084500Z
DTSTAMP:20260421T204414Z
UID:session/GcYHHWBcFJ4ccuaRtRLp9S@hasgeek.com
SEQUENCE:0
CREATED:20200701T062702Z
DESCRIPTION:\n
LAST-MODIFIED:20200701T062712Z
LOCATION:Online
ORGANIZER;CN=Arrka:MAILTO:no-reply@hasgeek.com
BEGIN:VALARM
ACTION:display
DESCRIPTION:Lunch Break in 5 minutes
TRIGGER:-PT5M
END:VALARM
END:VEVENT
BEGIN:VEVENT
SUMMARY:Beyond Information Privacy Information Lifecycle
DTSTART:20200731T084500Z
DTEND:20200731T101500Z
DTSTAMP:20260421T204414Z
UID:session/UjTQMhhivbKHdDcfpdKwaV@hasgeek.com
SEQUENCE:0
CREATED:20200701T062733Z
DESCRIPTION:\n
LAST-MODIFIED:20200701T062754Z
LOCATION:Online
ORGANIZER;CN=Arrka:MAILTO:no-reply@hasgeek.com
BEGIN:VALARM
ACTION:display
DESCRIPTION:Beyond Information Privacy Information Lifecycle in 5 minutes
TRIGGER:-PT5M
END:VALARM
END:VEVENT
BEGIN:VEVENT
SUMMARY:Tea Break
DTSTART:20200731T101500Z
DTEND:20200731T103000Z
DTSTAMP:20260421T204414Z
UID:session/9b4LeEMxbYZvTc3DUjrM2h@hasgeek.com
SEQUENCE:0
CREATED:20200701T062819Z
DESCRIPTION:\n
LAST-MODIFIED:20200701T062831Z
LOCATION:Online
ORGANIZER;CN=Arrka:MAILTO:no-reply@hasgeek.com
BEGIN:VALARM
ACTION:display
DESCRIPTION:Tea Break in 5 minutes
TRIGGER:-PT5M
END:VALARM
END:VEVENT
BEGIN:VEVENT
SUMMARY:Privacy in Organizational Ecosystems
DTSTART:20200731T103000Z
DTEND:20200731T113000Z
DTSTAMP:20260421T204414Z
UID:session/E6wzSz8SsjkdXjdCAkbfw4@hasgeek.com
SEQUENCE:0
CREATED:20200701T062854Z
DESCRIPTION:\n
LAST-MODIFIED:20200701T062902Z
LOCATION:Online
ORGANIZER;CN=Arrka:MAILTO:no-reply@hasgeek.com
BEGIN:VALARM
ACTION:display
DESCRIPTION:Privacy in Organizational Ecosystems in 5 minutes
TRIGGER:-PT5M
END:VALARM
END:VEVENT
BEGIN:VEVENT
SUMMARY:DCPP Exam : Structure & Tips
DTSTART:20200731T113000Z
DTEND:20200731T120000Z
DTSTAMP:20260421T204414Z
UID:session/BtG9sdWKthPYYqCAVCqBnd@hasgeek.com
SEQUENCE:0
CREATED:20200701T062921Z
DESCRIPTION:\n
LAST-MODIFIED:20200701T062931Z
LOCATION:Online
ORGANIZER;CN=Arrka:MAILTO:no-reply@hasgeek.com
BEGIN:VALARM
ACTION:display
DESCRIPTION:DCPP Exam : Structure & Tips in 5 minutes
TRIGGER:-PT5M
END:VALARM
END:VEVENT
END:VCALENDAR
